Workbook

Sheet CumHrs
B1: Name of Student
B2: Beginning Date
B3: Ending Date
B5: School | C5: 1
B6: Grades & Subjects Taught
B7: Supervising Teacher
B9: School | C9: 2
B10: Grades & Subjects Taught
B11: Supervising Teacher
B13: School | C13: 3
B14: Grades & Subjects Taught
B15: Supervising Teacher
C18: SUMMARY TABULATION OF CLOCK HOURS
B19: =M122 -> 0 | D19: Hours - Primary Responsibility
B20: =M123 -> 0 | D20: Hours - Co-teaching Responsibility
B21: =M124 -> 0 | D21: Hours - Routine Duties at School
B22: =M125 -> 0 | D22: Hours - Observation of Any Class
B23: =M126 -> 0 | D23: HOURS TOTAL
B26: OFFICE USE ONLY
B28: 1 | C28: ED ______ EDS ______
D29: Credit Hours | E29: 7 | I29: Signature: University Consultant 1
D30: Grade
B32: 2 | C32: ED ______ EDS ______
D33: Credit Hours | E33: 7 | I33: Signature: University Consultant 2
D34: Grade
B36: 3 | C36: ED ______ EDS ______
D37: Credit Hours | E37: 7 | I37: Signature: University Consultant 3
D38: Grade
G41: Signature: Director of Teacher Education
A44: WEEK | B44: 1 | F44: CumHrs | H44: WEEK | I44: 2 | M44: CumHrs
A45: ='1'!G$10 -> 0 | B45: Hours - Primary Responsibility | F45: =A45 -> 0 | H45: ='2'!G$10 -> 0 | I45: Hours - Primary Responsibility | M45: =+F45+H45 -> 0
A46: ='1'!G$11 -> 0 | B46: Hours - Co-teaching Responsibility | F46: =A46 -> 0 | H46: ='2'!G$11 -> 0 | I46: Hours - Co-teaching Responsibility | M46: =+F46+H46 -> 0
A47: ='1'!G$12 -> 0 | B47: Hours - Routine Duties at School | F47: =A47 -> 0 | H47: ='2'!G$12 -> 0 | I47: Hours - Routine Duties at School | M47: =+F47+H47 -> 0
A48: ='1'!G$13 -> 0 | B48: Hours - Observation of Any Class | F48: =A48 -> 0 | H48: ='2'!G$13 -> 0 | I48: Hours - Observation of Any Class | M48: =+F48+H48 -> 0
A49: =SUM(A45:A48) -> 0 | B49: HOURS TOTAL | F49: =SUM(F45:F48) -> 0 | H49: =SUM(H45:H48) -> 0 | I49: HOURS TOTAL | M49: =SUM(M45:M48) -> 0
A51: WEEK | B51: 3 | F51: CumHrs | H51: WEEK | I51: 4 | M51: CumHrs
A52: ='3'!G$10 -> 0 | B52: Hours - Primary Responsibility | F52: =+A52+M45 -> 0 | H52: ='4'!G$10 -> 0 | I52: Hours - Primary Responsibility | M52: =+F52+H52 -> 0
A53: ='3'!G$11 -> 0 | B53: Hours - Co-teaching Responsibility | F53: =+A53+M46 -> 0 | H53: ='4'!G$11 -> 0 | I53: Hours - Co-teaching Responsibility | M53: =+F53+H53 -> 0
A54: ='3'!G$12 -> 0 | B54: Hours - Routine Duties at School | F54: =+A54+M47 -> 0 | H54: ='4'!G$12 -> 0 | I54: Hours - Routine Duties at School | M54: =+F54+H54 -> 0
A55: ='3'!G$13 -> 0 | B55: Hours - Observation of Any Class | F55: =+A55+M48 -> 0 | H55: ='4'!G$13 -> 0 | I55: Hours - Observation of Any Class | M55: =+F55+H55 -> 0
...

Sheet 1
C1: Student Teacher: | D1: =CumHrs!I1 -> 0
C2: Week: | D2: 1
C3: Dates of Report Period: | E3: to
A5: STUDENT TEACHER WEEKLY REPORT FORM
A7: SEND to your ASSIGNED UNIVERSITY CONSULTANT(S) BY 8 a.m. on MONDAY
A9: Record of Experience | B9: Monday | C9: Tuesday | D9: Wednesday | E9: Thursday | F9: Friday | G9: Total
A10: Primary Responsibility | G10: =SUM(B10:F10) -> 0
A11: Co-Teaching Responsibility | G11: =SUM(B11:F11) -> 0
A12: Routine Duties at School (preparation, conferences, team meetings, extra curric) | G12: =SUM(B12:F12) -> 0
A13: Observation of any Class | G13: =SUM(B13:F13) -> 0
A14: TOTALS: | B14: =SUM(B10:B13) -> 0 | C14: =SUM(C10:C13) -> 0 | D14: =SUM(D10:D13) -> 0 | E14: =SUM(E10:E13) -> 0 | F14: =SUM(F10:F13) -> 0 | G14: =SUM(G10:G13) -> 0
A16: EXPECTED TEACHING AND OBSERVATION TIMES FOR NEXT WEEK
A17: Be sure to contact your university consultant if this schedule changes.
A18: Periods/Times | B18: Monday | C18: Tuesday | D18: Wednesday | E18: Thursday | F18: Friday

Sheet 2
C1: Student Teacher: | D1: =CumHrs!I1 -> 0
C2: Week: | D2: 2
C3: Dates of Report Period: | E3: to
A5: STUDENT TEACHER WEEKLY REPORT FORM
A7: SEND to your ASSIGNED UNIVERSITY CONSULTANT(S) BY 8 a.m. on MONDAY
A9: Record of Experience | B9: Monday | C9: Tuesday | D9: Wednesday | E9: Thursday | F9: Friday | G9: Total
A10: Primary Responsibility | G10: =SUM(B10:F10) -> 0
A11: Co-Teaching Responsibility | G11: =SUM(B11:F11) -> 0
A12: Routine Duties at School (preparation, conferences, team meetings, extra curric) | G12: =SUM(B12:F12) -> 0
A13: Observation of any Class | G13: =SUM(B13:F13) -> 0
A14: TOTALS: | B14: =SUM(B10:B13) -> 0 | C14: =SUM(C10:C13) -> 0 | D14: =SUM(D10:D13) -> 0 | E14: =SUM(E10:E13) -> 0 | F14: =SUM(F10:F13) -> 0 | G14: =SUM(G10:G13) -> 0
A16: EXPECTED TEACHING AND OBSERVATION TIMES FOR NEXT WEEK
A17: Be sure to contact your university consultant if this schedule changes.
A18: Periods/Times | B18: Monday | C18: Tuesday | D18: Wednesday | E18: Thursday | F18: Friday

Sheet 3
C1: Student Teacher: | D1: =CumHrs!I1 -> 0
C2: Week: | D2: 3
C3: Dates of Report Period: | E3: to
A5: STUDENT TEACHER WEEKLY REPORT FORM
A7: SEND to your ASSIGNED UNIVERSITY CONSULTANT(S) BY 8 a.m. on MONDAY
A9: Record of Experience | B9: Monday | C9: Tuesday | D9: Wednesday | E9: Thursday | F9: Friday | G9: Total
A10: Primary Responsibility | G10: =SUM(B10:F10) -> 0
A11: Co-Teaching Responsibility | G11: =SUM(B11:F11) -> 0
A12: Routine Duties at School (preparation, conferences, team meetings, extra curric) | G12: =SUM(B12:F12) -> 0
A13: Observation of any Class | G13: =SUM(B13:F13) -> 0
A14: TOTALS: | B14: =SUM(B10:B13) -> 0 | C14: =SUM(C10:C13) -> 0 | D14: =SUM(D10:D13) -> 0 | E14: =SUM(E10:E13) -> 0 | F14: =SUM(F10:F13) -> 0 | G14: =SUM(G10:G13) -> 0
A16: EXPECTED TEACHING AND OBSERVATION TIMES FOR NEXT WEEK
A17: Be sure to contact your university consultant if this schedule changes.
A18: Periods/Times | B18: Monday | C18: Tuesday | D18: Wednesday | E18: Thursday | F18: Friday

Sheet 4
C1: Student Teacher: | D1: =CumHrs!I1 -> 0
C2: Week: | D2: 4
C3: Dates of Report Period: | E3: to
A5: STUDENT TEACHER WEEKLY REPORT FORM
A7: SEND to your ASSIGNED UNIVERSITY CONSULTANT(S) BY 8 a.m. on MONDAY
A9: Record of Experience | B9: Monday | C9: Tuesday | D9: Wednesday | E9: Thursday | F9: Friday | G9: Total
A10: Primary Responsibility | G10: =SUM(B10:F10) -> 0
A11: Co-Teaching Responsibility | G11: =SUM(B11:F11) -> 0
A12: Routine Duties at School (preparation, conferences, team meetings, extra curric) | G12: =SUM(B12:F12) -> 0
A13: Observation of any Class | G13: =SUM(B13:F13) -> 0
A14: TOTALS: | B14: =SUM(B10:B13) -> 0 | C14: =SUM(C10:C13) -> 0 | D14: =SUM(D10:D13) -> 0 | E14: =SUM(E10:E13) -> 0 | F14: =SUM(F10:F13) -> 0 | G14: =SUM(G10:G13) -> 0
A16: EXPECTED TEACHING AND OBSERVATION TIMES FOR NEXT WEEK
A17: Be sure to contact your university consultant if this schedule changes.
A18: Periods/Times | B18: Monday | C18: Tuesday | D18: Wednesday | E18: Thursday | F18: Friday

Sheet 5
C1: Student Teacher: | D1: =CumHrs!I1 -> 0
C2: Week: | D2: 5
C3: Dates of Report Period: | E3: to
A5: STUDENT TEACHER WEEKLY REPORT FORM
A7: SEND to your ASSIGNED UNIVERSITY CONSULTANT(S) BY 8 a.m. on MONDAY
A9: Record of Experience | B9: Monday | C9: Tuesday | D9: Wednesday | E9: Thursday | F9: Friday | G9: Total
A10: Primary Responsibility | G10: =SUM(B10:F10) -> 0
A11: Co-Teaching Responsibility | G11: =SUM(B11:F11) -> 0
A12: Routine Duties at School (preparation, conferences, team meetings, extra curric) | G12: =SUM(B12:F12) -> 0
A13: Observation of any Class | G13: =SUM(B13:F13) -> 0
A14: TOTALS: | B14: =SUM(B10:B13) -> 0 | C14: =SUM(C10:C13) -> 0 | D14: =SUM(D10:D13) -> 0 | E14: =SUM(E10:E13) -> 0 | F14: =SUM(F10:F13) -> 0 | G14: =SUM(G10:G13) -> 0
A16: EXPECTED TEACHING AND OBSERVATION TIMES FOR NEXT WEEK
A17: Be sure to contact your university consultant if this schedule changes.
A18: Periods/Times | B18: Monday | C18: Tuesday | D18: Wednesday | E18: Thursday | F18: Friday

Sheet 6
C1: Student Teacher: | D1: =CumHrs!I1 -> 0
C2: Week: | D2: 6
C3: Dates of Report Period: | E3: to
A5: STUDENT TEACHER WEEKLY REPORT FORM
A7: SEND to your ASSIGNED UNIVERSITY CONSULTANT(S) BY 8 a.m. on MONDAY
A9: Record of Experience | B9: Monday | C9: Tuesday | D9: Wednesday | E9: Thursday | F9: Friday | G9: Total
A10: Primary Responsibility | G10: =SUM(B10:F10) -> 0
A11: Co-Teaching Responsibility | G11: =SUM(B11:F11) -> 0
A12: Routine Duties at School (preparation, conferences, team meetings, extra curric) | G12: =SUM(B12:F12) -> 0
A13: Observation of any Class | G13: =SUM(B13:F13) -> 0
A14: TOTALS: | B14: =SUM(B10:B13) -> 0 | C14: =SUM(C10:C13) -> 0 | D14: =SUM(D10:D13) -> 0 | E14: =SUM(E10:E13) -> 0 | F14: =SUM(F10:F13) -> 0 | G14: =SUM(G10:G13) -> 0
A16: EXPECTED TEACHING AND OBSERVATION TIMES FOR NEXT WEEK
A17: Be sure to contact your university consultant if this schedule changes.
A18: Periods/Times | B18: Monday | C18: Tuesday | D18: Wednesday | E18: Thursday | F18: Friday

Sheet 7
C1: Student Teacher: | D1: =CumHrs!I1 -> 0
C2: Week: | D2: 7
C3: Dates of Report Period: | E3: to
A5: STUDENT TEACHER WEEKLY REPORT FORM
A7: SEND to your ASSIGNED UNIVERSITY CONSULTANT(S) BY 8 a.m. on MONDAY
A9: Record of Experience | B9: Monday | C9: Tuesday | D9: Wednesday | E9: Thursday | F9: Friday | G9: Total
A10: Primary Responsibility | G10: =SUM(B10:F10) -> 0
A11: Co-Teaching Responsibility | G11: =SUM(B11:F11) -> 0
A12: Routine Duties at School (preparation, conferences, team meetings, extra curric) | G12: =SUM(B12:F12) -> 0
A13: Observation of any Class | G13: =SUM(B13:F13) -> 0
A14: TOTALS: | B14: =SUM(B10:B13) -> 0 | C14: =SUM(C10:C13) -> 0 | D14: =SUM(D10:D13) -> 0 | E14: =SUM(E10:E13) -> 0 | F14: =SUM(F10:F13) -> 0 | G14: =SUM(G10:G13) -> 0
A16: EXPECTED TEACHING AND OBSERVATION TIMES FOR NEXT WEEK
A17: Be sure to contact your university consultant if this schedule changes.
A18: Periods/Times | B18: Monday | C18: Tuesday | D18: Wednesday | E18: Thursday | F18: Friday

Sheet 8
C1: Student Teacher: | D1: =CumHrs!I1 -> 0
C2: Week: | D2: 8
C3: Dates of Report Period: | E3: to
A5: STUDENT TEACHER WEEKLY REPORT FORM
A7: SEND to your ASSIGNED UNIVERSITY CONSULTANT(S) BY 8 a.m. on MONDAY
A9: Record of Experience | B9: Monday | C9: Tuesday | D9: Wednesday | E9: Thursday | F9: Friday | G9: Total
A10: Primary Responsibility | G10: =SUM(B10:F10) -> 0
A11: Co-Teaching Responsibility | G11: =SUM(B11:F11) -> 0
A12: Routine Duties at School (preparation, conferences, team meetings, extra curric) | G12: =SUM(B12:F12) -> 0
A13: Observation of any Class | G13: =SUM(B13:F13) -> 0
A14: TOTALS: | B14: =SUM(B10:B13) -> 0 | C14: =SUM(C10:C13) -> 0 | D14: =SUM(D10:D13) -> 0 | E14: =SUM(E10:E13) -> 0 | F14: =SUM(F10:F13) -> 0 | G14: =SUM(G10:G13) -> 0
A16: EXPECTED TEACHING AND OBSERVATION TIMES FOR NEXT WEEK
A17: Be sure to contact your university consultant if this schedule changes.
A18: Periods/Times | B18: Monday | C18: Tuesday | D18: Wednesday | E18: Thursday | F18: Friday

Sheet 9
C1: Student Teacher: | D1: =CumHrs!I1 -> 0
C2: Week: | D2: 9
C3: Dates of Report Period: | E3: to
A5: STUDENT TEACHER WEEKLY REPORT FORM
A7: SEND to your ASSIGNED UNIVERSITY CONSULTANT(S) BY 8 a.m. on MONDAY
A9: Record of Experience | B9: Monday | C9: Tuesday | D9: Wednesday | E9: Thursday | F9: Friday | G9: Total
A10: Primary Responsibility | G10: =SUM(B10:F10) -> 0
A11: Co-Teaching Responsibility | G11: =SUM(B11:F11) -> 0
A12: Routine Duties at School (preparation, conferences, team meetings, extra curric) | G12: =SUM(B12:F12) -> 0
A13: Observation of any Class | G13: =SUM(B13:F13) -> 0
A14: TOTALS: | B14: =SUM(B10:B13) -> 0 | C14: =SUM(C10:C13) -> 0 | D14: =SUM(D10:D13) -> 0 | E14: =SUM(E10:E13) -> 0 | F14: =SUM(F10:F13) -> 0 | G14: =SUM(G10:G13) -> 0
A16: EXPECTED TEACHING AND OBSERVATION TIMES FOR NEXT WEEK
A17: Be sure to contact your university consultant if this schedule changes.
A18: Periods/Times | B18: Monday | C18: Tuesday | D18: Wednesday | E18: Thursday | F18: Friday

Sheet 10
C1: Student Teacher: | D1: =CumHrs!I1 -> 0
C2: Week: | D2: 10
C3: Dates of Report Period: | E3: to
A5: STUDENT TEACHER WEEKLY REPORT FORM
A7: SEND to your ASSIGNED UNIVERSITY CONSULTANT(S) BY 8 a.m. on MONDAY
A9: Record of Experience | B9: Monday | C9: Tuesday | D9: Wednesday | E9: Thursday | F9: Friday | G9: Total
A10: Primary Responsibility | G10: =SUM(B10:F10) -> 0
A11: Co-Teaching Responsibility | G11: =SUM(B11:F11) -> 0
A12: Routine Duties at School (preparation, conferences, team meetings, extra curric) | G12: =SUM(B12:F12) -> 0
A13: Observation of any Class | G13: =SUM(B13:F13) -> 0
A14: TOTALS: | B14: =SUM(B10:B13) -> 0 | C14: =SUM(C10:C13) -> 0 | D14: =SUM(D10:D13) -> 0 | E14: =SUM(E10:E13) -> 0 | F14: =SUM(F10:F13) -> 0 | G14: =SUM(G10:G13) -> 0
A16: EXPECTED TEACHING AND OBSERVATION TIMES FOR NEXT WEEK
A17: Be sure to contact your university consultant if this schedule changes.
A18: Periods/Times | B18: Monday | C18: Tuesday | D18: Wednesday | E18: Thursday | F18: Friday

Sheet 11
C1: Student Teacher: | D1: =CumHrs!I1 -> 0
C2: Week: | D2: 11
C3: Dates of Report Period: | E3: to
A5: STUDENT TEACHER WEEKLY REPORT FORM
A7: SEND to your ASSIGNED UNIVERSITY CONSULTANT(S) BY 8 a.m. on MONDAY
A9: Record of Experience | B9: Monday | C9: Tuesday | D9: Wednesday | E9: Thursday | F9: Friday | G9: Total
A10: Primary Responsibility | G10: =SUM(B10:F10) -> 0
A11: Co-Teaching Responsibility | G11: =SUM(B11:F11) -> 0
A12: Routine Duties at School (preparation, conferences, team meetings, extra curric) | G12: =SUM(B12:F12) -> 0
A13: Observation of any Class | G13: =SUM(B13:F13) -> 0
A14: TOTALS: | B14: =SUM(B10:B13) -> 0 | C14: =SUM(C10:C13) -> 0 | D14: =SUM(D10:D13) -> 0 | E14: =SUM(E10:E13) -> 0 | F14: =SUM(F10:F13) -> 0 | G14: =SUM(G10:G13) -> 0
A16: EXPECTED TEACHING AND OBSERVATION TIMES FOR NEXT WEEK
A17: Be sure to contact your university consultant if this schedule changes.
A18: Periods/Times | B18: Monday | C18: Tuesday | D18: Wednesday | E18: Thursday | F18: Friday

Sheet 12
C1: Student Teacher: | D1: =CumHrs!I1 -> 0
C2: Week: | D2: 12
C3: Dates of Report Period: | E3: to
A5: STUDENT TEACHER WEEKLY REPORT FORM
A7: SEND to your ASSIGNED UNIVERSITY CONSULTANT(S) BY 8 a.m. on MONDAY
A9: Record of Experience | B9: Monday | C9: Tuesday | D9: Wednesday | E9: Thursday | F9: Friday | G9: Total
A10: Primary Responsibility | G10: =SUM(B10:F10) -> 0
A11: Co-Teaching Responsibility | G11: =SUM(B11:F11) -> 0
A12: Routine Duties at School (preparation, conferences, team meetings, extra curric) | G12: =SUM(B12:F12) -> 0
A13: Observation of any Class | G13: =SUM(B13:F13) -> 0
A14: TOTALS: | B14: =SUM(B10:B13) -> 0 | C14: =SUM(C10:C13) -> 0 | D14: =SUM(D10:D13) -> 0 | E14: =SUM(E10:E13) -> 0 | F14: =SUM(F10:F13) -> 0 | G14: =SUM(G10:G13) -> 0
A16: EXPECTED TEACHING AND OBSERVATION TIMES FOR NEXT WEEK
A17: Be sure to contact your university consultant if this schedule changes.
A18: Periods/Times | B18: Monday | C18: Tuesday | D18: Wednesday | E18: Thursday | F18: Friday

Sheet 13
C1: Student Teacher: | D1: =CumHrs!I1 -> 0
C2: Week: | D2: 13
C3: Dates of Report Period: | E3: to
A5: STUDENT TEACHER WEEKLY REPORT FORM
A7: SEND to your ASSIGNED UNIVERSITY CONSULTANT(S) BY 8 a.m. on MONDAY
A9: Record of Experience | B9: Monday | C9: Tuesday | D9: Wednesday | E9: Thursday | F9: Friday | G9: Total
A10: Primary Responsibility | G10: =SUM(B10:F10) -> 0
A11: Co-Teaching Responsibility | G11: =SUM(B11:F11) -> 0
A12: Routine Duties at School (preparation, conferences, team meetings, extra curric) | G12: =SUM(B12:F12) -> 0
A13: Observation of any Class | G13: =SUM(B13:F13) -> 0
A14: TOTALS: | B14: =SUM(B10:B13) -> 0 | C14: =SUM(C10:C13) -> 0 | D14: =SUM(D10:D13) -> 0 | E14: =SUM(E10:E13) -> 0 | F14: =SUM(F10:F13) -> 0 | G14: =SUM(G10:G13) -> 0
A16: EXPECTED TEACHING AND OBSERVATION TIMES FOR NEXT WEEK
A17: Be sure to contact your university consultant if this schedule changes.
A18: Periods/Times | B18: Monday | C18: Tuesday | D18: Wednesday | E18: Thursday | F18: Friday

Sheet 14
C1: Student Teacher: | D1: =CumHrs!I1 -> 0
C2: Week: | D2: 14
C3: Dates of Report Period: | E3: to
A5: STUDENT TEACHER WEEKLY REPORT FORM
A7: SEND to your ASSIGNED UNIVERSITY CONSULTANT(S) BY 8 a.m. on MONDAY
A9: Record of Experience | B9: Monday | C9: Tuesday | D9: Wednesday | E9: Thursday | F9: Friday | G9: Total
A10: Primary Responsibility | G10: =SUM(B10:F10) -> 0
A11: Co-Teaching Responsibility | G11: =SUM(B11:F11) -> 0
A12: Routine Duties at School (preparation, conferences, team meetings, extra curric) | G12: =SUM(B12:F12) -> 0
A13: Observation of any Class | G13: =SUM(B13:F13) -> 0
A14: TOTALS: | B14: =SUM(B10:B13) -> 0 | C14: =SUM(C10:C13) -> 0 | D14: =SUM(D10:D13) -> 0 | E14: =SUM(E10:E13) -> 0 | F14: =SUM(F10:F13) -> 0 | G14: =SUM(G10:G13) -> 0
A16: EXPECTED TEACHING AND OBSERVATION TIMES FOR NEXT WEEK
A17: Be sure to contact your university consultant if this schedule changes.
A18: Periods/Times | B18: Monday | C18: Tuesday | D18: Wednesday | E18: Thursday | F18: Friday

Sheet 15
C1: Student Teacher: | D1: =CumHrs!I1 -> 0
C2: Week: | D2: 15
C3: Dates of Report Period: | E3: to
A5: STUDENT TEACHER WEEKLY REPORT FORM
A7: SEND to your ASSIGNED UNIVERSITY CONSULTANT(S) BY 8 a.m. on MONDAY
A9: Record of Experience | B9: Monday | C9: Tuesday | D9: Wednesday | E9: Thursday | F9: Friday | G9: Total
A10: Primary Responsibility | G10: =SUM(B10:F10) -> 0
A11: Co-Teaching Responsibility | G11: =SUM(B11:F11) -> 0
A12: Routine Duties at School (preparation, conferences, team meetings, extra curric) | G12: =SUM(B12:F12) -> 0
A13: Observation of any Class | G13: =SUM(B13:F13) -> 0
A14: TOTALS: | B14: =SUM(B10:B13) -> 0 | C14: =SUM(C10:C13) -> 0 | D14: =SUM(D10:D13) -> 0 | E14: =SUM(E10:E13) -> 0 | F14: =SUM(F10:F13) -> 0 | G14: =SUM(G10:G13) -> 0
A16: EXPECTED TEACHING AND OBSERVATION TIMES FOR NEXT WEEK
A17: Be sure to contact your university consultant if this schedule changes.
A18: Periods/Times | B18: Monday | C18: Tuesday | D18: Wednesday | E18: Thursday | F18: Friday

Sheet 16
C1: Student Teacher: | D1: =CumHrs!I1 -> 0
C2: Week: | D2: 16
C3: Dates of Report Period: | E3: to
A5: STUDENT TEACHER WEEKLY REPORT FORM
A7: SEND to your ASSIGNED UNIVERSITY CONSULTANT(S) BY 8 a.m. on MONDAY
A9: Record of Experience | B9: Monday | C9: Tuesday | D9: Wednesday | E9: Thursday | F9: Friday | G9: Total
A10: Primary Responsibility | G10: =SUM(B10:F10) -> 0
A11: Co-Teaching Responsibility | G11: =SUM(B11:F11) -> 0
A12: Routine Duties at School (preparation, conferences, team meetings, extra curric) | G12: =SUM(B12:F12) -> 0
A13: Observation of any Class | G13: =SUM(B13:F13) -> 0
A14: TOTALS: | B14: =SUM(B10:B13) -> 0 | C14: =SUM(C10:C13) -> 0 | D14: =SUM(D10:D13) -> 0 | E14: =SUM(E10:E13) -> 0 | F14: =SUM(F10:F13) -> 0 | G14: =SUM(G10:G13) -> 0
A16: EXPECTED TEACHING AND OBSERVATION TIMES FOR NEXT WEEK
A17: Be sure to contact your university consultant if this schedule changes.
A18: Periods/Times | B18: Monday | C18: Tuesday | D18: Wednesday | E18: Thursday | F18: Friday

Sheet 17
C1: Student Teacher: | D1: =CumHrs!I1 -> 0
C2: Week: | D2: 17
C3: Dates of Report Period: | E3: to
A5: STUDENT TEACHER WEEKLY REPORT FORM
A7: SEND to your ASSIGNED UNIVERSITY CONSULTANT(S) BY 8 a.m. on MONDAY
A9: Record of Experience | B9: Monday | C9: Tuesday | D9: Wednesday | E9: Thursday | F9: Friday | G9: Total
A10: Primary Responsibility | G10: =SUM(B10:F10) -> 0
A11: Co-Teaching Responsibility | G11: =SUM(B11:F11) -> 0
A12: Routine Duties at School (preparation, conferences, team meetings, extra curric) | G12: =SUM(B12:F12) -> 0
A13: Observation of any Class | G13: =SUM(B13:F13) -> 0
A14: TOTALS: | B14: =SUM(B10:B13) -> 0 | C14: =SUM(C10:C13) -> 0 | D14: =SUM(D10:D13) -> 0 | E14: =SUM(E10:E13) -> 0 | F14: =SUM(F10:F13) -> 0 | G14: =SUM(G10:G13) -> 0
A16: EXPECTED TEACHING AND OBSERVATION TIMES FOR NEXT WEEK
A17: Be sure to contact your university consultant if this schedule changes.
A18: Periods/Times | B18: Monday | C18: Tuesday | D18: Wednesday | E18: Thursday | F18: Friday

Sheet 18
C1: Student Teacher: | D1: =CumHrs!I1 -> 0
C2: Week: | D2: 18
C3: Dates of Report Period: | E3: to
A5: STUDENT TEACHER WEEKLY REPORT FORM
A7: SEND to your ASSIGNED UNIVERSITY CONSULTANT(S) BY 8 a.m. on MONDAY
A9: Record of Experience | B9: Monday | C9: Tuesday | D9: Wednesday | E9: Thursday | F9: Friday | G9: Total
A10: Primary Responsibility | G10: =SUM(B10:F10) -> 0
A11: Co-Teaching Responsibility | G11: =SUM(B11:F11) -> 0
A12: Routine Duties at School (preparation, conferences, team meetings, extra curric) | G12: =SUM(B12:F12) -> 0
A13: Observation of any Class | G13: =SUM(B13:F13) -> 0
A14: TOTALS: | B14: =SUM(B10:B13) -> 0 | C14: =SUM(C10:C13) -> 0 | D14: =SUM(D10:D13) -> 0 | E14: =SUM(E10:E13) -> 0 | F14: =SUM(F10:F13) -> 0 | G14: =SUM(G10:G13) -> 0
A16: EXPECTED TEACHING AND OBSERVATION TIMES FOR NEXT WEEK
A17: Be sure to contact your university consultant if this schedule changes.
A18: Periods/Times | B18: Monday | C18: Tuesday | D18: Wednesday | E18: Thursday | F18: Friday

Sheet 19
C1: Student Teacher: | D1: =CumHrs!I1 -> 0
C2: Week: | D2: 19
C3: Dates of Report Period: | E3: to
A5: STUDENT TEACHER WEEKLY REPORT FORM
A7: SEND to your ASSIGNED UNIVERSITY CONSULTANT(S) BY 8 a.m. on MONDAY
A9: Record of Experience | B9: Monday | C9: Tuesday | D9: Wednesday | E9: Thursday | F9: Friday | G9: Total
A10: Primary Responsibility | G10: =SUM(B10:F10) -> 0
A11: Co-Teaching Responsibility | G11: =SUM(B11:F11) -> 0
A12: Routine Duties at School (preparation, conferences, team meetings, extra curric) | G12: =SUM(B12:F12) -> 0
A13: Observation of any Class | G13: =SUM(B13:F13) -> 0
A14: TOTALS: | B14: =SUM(B10:B13) -> 0 | C14: =SUM(C10:C13) -> 0 | D14: =SUM(D10:D13) -> 0 | E14: =SUM(E10:E13) -> 0 | F14: =SUM(F10:F13) -> 0 | G14: =SUM(G10:G13) -> 0
A16: EXPECTED TEACHING AND OBSERVATION TIMES FOR NEXT WEEK
A17: Be sure to contact your university consultant if this schedule changes.
A18: Periods/Times | B18: Monday | C18: Tuesday | D18: Wednesday | E18: Thursday | F18: Friday

Sheet 20
C1: Student Teacher: | D1: =CumHrs!I1 -> 0
C2: Week: | D2: 20
C3: Dates of Report Period: | E3: to
A5: STUDENT TEACHER WEEKLY REPORT FORM
A7: SEND to your ASSIGNED UNIVERSITY CONSULTANT(S) BY 8 a.m. on MONDAY
A9: Record of Experience | B9: Monday | C9: Tuesday | D9: Wednesday | E9: Thursday | F9: Friday | G9: Total
A10: Primary Responsibility | G10: =SUM(B10:F10) -> 0
A11: Co-Teaching Responsibility | G11: =SUM(B11:F11) -> 0
A12: Routine Duties at School (preparation, conferences, team meetings, extra curric) | G12: =SUM(B12:F12) -> 0
A13: Observation of any Class | G13: =SUM(B13:F13) -> 0
A14: TOTALS: | B14: =SUM(B10:B13) -> 0 | C14: =SUM(C10:C13) -> 0 | D14: =SUM(D10:D13) -> 0 | E14: =SUM(E10:E13) -> 0 | F14: =SUM(F10:F13) -> 0 | G14: =SUM(G10:G13) -> 0
A16: EXPECTED TEACHING AND OBSERVATION TIMES FOR NEXT WEEK
A17: Be sure to contact your university consultant if this schedule changes.
A18: Periods/Times | B18: Monday | C18: Tuesday | D18: Wednesday | E18: Thursday | F18: Friday

Sheet 21
C1: Student Teacher: | D1: =CumHrs!I1 -> 0
C2: Week: | D2: 21
C3: Dates of Report Period: | E3: to
A5: STUDENT TEACHER WEEKLY REPORT FORM
A7: SEND to your ASSIGNED UNIVERSITY CONSULTANT(S) BY 8 a.m. on MONDAY
A9: Record of Experience | B9: Monday | C9: Tuesday | D9: Wednesday | E9: Thursday | F9: Friday | G9: Total
A10: Primary Responsibility | G10: =SUM(B10:F10) -> 0
A11: Co-Teaching Responsibility | G11: =SUM(B11:F11) -> 0
A12: Routine Duties at School (preparation, conferences, team meetings, extra curric) | G12: =SUM(B12:F12) -> 0
A13: Observation of any Class | G13: =SUM(B13:F13) -> 0
A14: TOTALS: | B14: =SUM(B10:B13) -> 0 | C14: =SUM(C10:C13) -> 0 | D14: =SUM(D10:D13) -> 0 | E14: =SUM(E10:E13) -> 0 | F14: =SUM(F10:F13) -> 0 | G14: =SUM(G10:G13) -> 0
A16: EXPECTED TEACHING AND OBSERVATION TIMES FOR NEXT WEEK
A17: Be sure to contact your university consultant if this schedule changes.
A18: Periods/Times | B18: Monday | C18: Tuesday | D18: Wednesday | E18: Thursday | F18: Friday

Sheet 22
C1: Student Teacher: | D1: =CumHrs!I1 -> 0
C2: Week: | D2: 22
C3: Dates of Report Period: | E3: to
A5: STUDENT TEACHER WEEKLY REPORT FORM
A7: SEND to your ASSIGNED UNIVERSITY CONSULTANT(S) BY 8 a.m. on MONDAY
A9: Record of Experience | B9: Monday | C9: Tuesday | D9: Wednesday | E9: Thursday | F9: Friday | G9: Total
A10: Primary Responsibility | G10: =SUM(B10:F10) -> 0
A11: Co-Teaching Responsibility | G11: =SUM(B11:F11) -> 0
A12: Routine Duties at School (preparation, conferences, team meetings, extra curric) | G12: =SUM(B12:F12) -> 0
A13: Observation of any Class | G13: =SUM(B13:F13) -> 0
A14: TOTALS: | B14: =SUM(B10:B13) -> 0 | C14: =SUM(C10:C13) -> 0 | D14: =SUM(D10:D13) -> 0 | E14: =SUM(E10:E13) -> 0 | F14: =SUM(F10:F13) -> 0 | G14: =SUM(G10:G13) -> 0
A16: EXPECTED TEACHING AND OBSERVATION TIMES FOR NEXT WEEK
A17: Be sure to contact your university consultant if this schedule changes.
A18: Periods/Times | B18: Monday | C18: Tuesday | D18: Wednesday | E18: Thursday | F18: Friday

Sheet 23
C1: Student Teacher: | D1: =CumHrs!I1 -> 0
C2: Week: | D2: 23
C3: Dates of Report Period: | E3: to
A5: STUDENT TEACHER WEEKLY REPORT FORM
A7: SEND to your ASSIGNED UNIVERSITY CONSULTANT(S) BY 8 a.m. on MONDAY
A9: Record of Experience | B9: Monday | C9: Tuesday | D9: Wednesday | E9: Thursday | F9: Friday | G9: Total
A10: Primary Responsibility | G10: =SUM(B10:F10) -> 0
A11: Co-Teaching Responsibility | G11: =SUM(B11:F11) -> 0
A12: Routine Duties at School (preparation, conferences, team meetings, extra curric) | G12: =SUM(B12:F12) -> 0
A13: Observation of any Class | G13: =SUM(B13:F13) -> 0
A14: TOTALS: | B14: =SUM(B10:B13) -> 0 | C14: =SUM(C10:C13) -> 0 | D14: =SUM(D10:D13) -> 0 | E14: =SUM(E10:E13) -> 0 | F14: =SUM(F10:F13) -> 0 | G14: =SUM(G10:G13) -> 0
A16: EXPECTED TEACHING AND OBSERVATION TIMES FOR NEXT WEEK
A17: Be sure to contact your university consultant if this schedule changes.
A18: Periods/Times | B18: Monday | C18: Tuesday | D18: Wednesday | E18: Thursday | F18: Friday

Sheet 24
C1: Student Teacher: | D1: =CumHrs!I1 -> 0
C2: Week: | D2: 24
C3: Dates of Report Period: | E3: to
A5: STUDENT TEACHER WEEKLY REPORT FORM
A7: SEND to your ASSIGNED UNIVERSITY CONSULTANT(S) BY 8 a.m. on MONDAY
A9: Record of Experience | B9: Monday | C9: Tuesday | D9: Wednesday | E9: Thursday | F9: Friday | G9: Total
A10: Primary Responsibility | G10: =SUM(B10:F10) -> 0
A11: Co-Teaching Responsibility | G11: =SUM(B11:F11) -> 0
A12: Routine Duties at School (preparation, conferences, team meetings, extra curric) | G12: =SUM(B12:F12) -> 0
A13: Observation of any Class | G13: =SUM(B13:F13) -> 0
A14: TOTALS: | B14: =SUM(B10:B13) -> 0 | C14: =SUM(C10:C13) -> 0 | D14: =SUM(D10:D13) -> 0 | E14: =SUM(E10:E13) -> 0 | F14: =SUM(F10:F13) -> 0 | G14: =SUM(G10:G13) -> 0
A16: EXPECTED TEACHING AND OBSERVATION TIMES FOR NEXT WEEK
A17: Be sure to contact your university consultant if this schedule changes.
A18: Periods/Times | B18: Monday | C18: Tuesday | D18: Wednesday | E18: Thursday | F18: Friday
