Workbook

Sheet CumHrs
B1: Name of Student
B2: Beginning Date
B3: Ending Date
B5: School | C5: 1
B6: Grades & Subjects Taught
B7: Supervising Teacher
B9: School | C9: 2
B10: Grades & Subjects Taught
B11: Supervising Teacher
B13: School | C13: 3
B14: Grades & Subjects Taught
B15: Supervising Teacher
C18: SUMMARY TABULATION OF CLOCK HOURS
B19: =M122 -> 0 | D19: Hours - Primary Responsibility
B20: =M123 -> 0 | D20: Hours - Co-teaching Responsibility
B21: =M124 -> 0 | D21: Hours - Routine Duties at School
B22: =M125 -> 0 | D22: Hours - Observation of Any Class
B23: =M126 -> 0 | D23: HOURS TOTAL
B26: OFFICE USE ONLY
B28: 1 | C28: ED ______ EDS ______
D29: Credit Hours | E29: 7 | I29: Signature: University Consultant 1
D30: Grade
B32: 2 | C32: ED ______ EDS ______
D33: Credit Hours | E33: 7 | I33: Signature: University Consultant 2
D34: Grade
B36: 3 | C36: ED ______ EDS ______
D37: Credit Hours | E37: 7 | I37: Signature: University Consultant 3
D38: Grade
G41: Signature: Director of Teacher Education
A44: WEEK | B44: 1 | F44: CumHrs | H44: WEEK | I44: 2 | M44: CumHrs
A45: ='1'!G$10 -> 0 | B45: Hours - Primary Responsibility | F45: =A45 -> 0 | H45: ='2'!G$10 -> 0 | I45: Hours - Primary Responsibility | M45: =+F45+H45 -> 0
A46: ='1'!G$11 -> 0 | B46: Hours - Co-teaching Responsibility | F46: =A46 -> 0 | H46: ='2'!G$11 -> 0 | I46: Hours - Co-teaching Responsibility | M46: =+F46+H46 -> 0
A47: ='1'!G$12 -> 0 | B47: Hours - Routine Duties at School | F47: =A47 -> 0 | H47: ='2'!G$12 -> 0 | I47: Hours - Routine Duties at School | M47: =+F47+H47 -> 0
A48: ='1'!G$13 -> 0 | B48: Hours - Observation of Any Class | F48: =A48 -> 0 | H48: ='2'!G$13 -> 0 | I48: Hours - Observation of Any Class | M48: =+F48+H48 -> 0
A49: =SUM(A45:A48) -> 0 | B49: HOURS TOTAL | F49: =SUM(F45:F48) -> 0 | H49: =SUM(H45:H48) -> 0 | I49: HOURS TOTAL | M49: =SUM(M45:M48) -> 0
A51: WEEK | B51: 3 | F51: CumHrs | H51: WEEK | I51: 4 | M51: CumHrs
A52: ='3'!G$10 -> 0 | B52: Hours - Primary Responsibility | F52: =+A52+M45 -> 0 | H52: ='4'!G$10 -> 0 | I52: Hours - Primary Responsibility | M52: =+F52+H52 -> 0
A53: ='3'!G$11 -> 0 | B53: Hours - Co-teaching Responsibility | F53: =+A53+M46 -> 0 | H53: ='4'!G$11 -> 0 | I53: Hours - Co-teaching Responsibility | M53: =+F53+H53 -> 0
A54: ='3'!G$12 -> 0 | B54: Hours - Routine Duties at School | F54: =+A54+M47 -> 0 | H54: ='4'!G$12 -> 0 | I54: Hours - Routine Duties at School | M54: =+F54+H54 -> 0
A55: ='3'!G$13 -> 0 | B55: Hours - Observation of Any Class | F55: =+A55+M48 -> 0 | H55: ='4'!G$13 -> 0 | I55: Hours - Observation of Any Class | M55: =+F55+H55 -> 0
A56: =SUM(A52:A55) -> 0 | B56: HOURS TOTAL | F56: =SUM(F52:F55) -> 0 | H56: =SUM(H52:H55) -> 0 | I56: HOURS TOTAL | M56: =SUM(M52:M55) -> 0
A58: WEEK | B58: 5 | F58: CumHrs | H58: WEEK | I58: 6 | M58: CumHrs
A59: ='5'!G$10 -> 0 | B59: Hours - Primary Responsibility | F59: =+A59+M52 -> 0 | H59: ='6'!G$10 -> 0 | I59: Hours - Primary Responsibility | M59: =+F59+H59 -> 0
A60: ='5'!G$11 -> 0 | B60: Hours - Co-teaching Responsibility | F60: =+A60+M53 -> 0 | H60: ='6'!G$11 -> 0 | I60: Hours - Co-teaching Responsibility | M60: =+F60+H60 -> 0
A61: ='5'!G$12 -> 0 | B61: Hours - Routine Duties at School | F61: =+A61+M54 -> 0 | H61: ='6'!G$12 -> 0 | I61: Hours - Routine Duties at School | M61: =+F61+H61 -> 0
A62: ='5'!G$13 -> 0 | B62: Hours - Observation of Any Class | F62: =+A62+M55 -> 0 | H62: ='6'!G$13 -> 0 | I62: Hours - Observation of Any Class | M62: =+F62+H62 -> 0
A63: =SUM(A59:A62) -> 0 | B63: HOURS TOTAL | F63: =SUM(F59:F62) -> 0 | H63: =SUM(H59:H62) -> 0 | I63: HOURS TOTAL | M63: =SUM(M59:M62) -> 0
A65: WEEK | B65: 7 | F65: CumHrs | H65: WEEK | I65: 8 | M65: CumHrs
A66: ='7'!G$10 -> 0 | B66: Hours - Primary Responsibility | F66: =+A66+M59 -> 0 | H66: ='8'!G$10 -> 0 | I66: Hours - Primary Responsibility | M66: =+F66+H66 -> 0
A67: ='7'!G$11 -> 0 | B67: Hours - Co-teaching Responsibility | F67: =+A67+M60 -> 0 | H67: ='8'!G$11 -> 0 | I67: Hours - Co-teaching Responsibility | M67: =+F67+H67 -> 0
A68: ='7'!G$12 -> 0 | B68: Hours - Routine Duties at School | F68: =+A68+M61 -> 0 | H68: ='8'!G$12 -> 0 | I68: Hours - Routine Duties at School | M68: =+F68+H68 -> 0
A69: ='7'!G$13 -> 0 | B69: Hours - Observation of Any Class | F69: =+A69+M62 -> 0 | H69: ='8'!G$13 -> 0 | I69: Hours - Observation of Any Class | M69: =+F69+H69 -> 0
A70: =SUM(A66:A69) -> 0 | B70: HOURS TOTAL | F70: =SUM(F66:F69) -> 0 | H70: =SUM(H66:H69) -> 0 | I70: HOURS TOTAL | M70: =SUM(M66:M69) -> 0
A72: WEEK | B72: 9 | F72: CumHrs | H72: WEEK | I72: 10 | M72: CumHrs
A73: ='9'!G$10 -> 0 | B73: Hours - Primary Responsibility | F73: =+A73+M66 -> 0 | H73: ='10'!G$10 -> 0 | I73: Hours - Primary Responsibility | M73: =+F73+H73 -> 0
A74: ='9'!G$11 -> 0 | B74: Hours - Co-teaching Responsibility | F74: =+A74+M67 -> 0 | H74: ='10'!G$11 -> 0 | I74: Hours - Co-teaching Responsibility | M74: =+F74+H74 -> 0
A75: ='9'!G$12 -> 0 | B75: Hours - Routine Duties at School | F75: =+A75+M68 -> 0 | H75: ='10'!G$12 -> 0 | I75: Hours - Routine Duties at School | M75: =+F75+H75 -> 0
A76: ='9'!G$13 -> 0 | B76: Hours - Observation of Any Class | F76: =+A76+M69 -> 0 | H76: ='10'!G$13 -> 0 | I76: Hours - Observation of Any Class | M76: =+F76+H76 -> 0
A77: =SUM(A73:A76) -> 0 | B77: HOURS TOTAL | F77: =SUM(F73:F76) -> 0 | H77: =SUM(H73:H76) -> 0 | I77: HOURS TOTAL | M77: =SUM(M73:M76) -> 0
A79: WEEK | B79: 11 | F79: CumHrs | H79: WEEK | I79: 12 | M79: CumHrs
A80: ='11'!G$10 -> 0 | B80: Hours - Primary Responsibility | F80: =+A80+M73 -> 0 | H80: ='12'!G$10 -> 0 | I80: Hours - Primary Responsibility | M80: =+F80+H80 -> 0
A81: ='11'!G$11 -> 0 | B81: Hours - Co-teaching Responsibility | F81: =+A81+M74 -> 0 | H81: ='12'!G$11 -> 0 | I81: Hours - Co-teaching Responsibility | M81: =+F81+H81 -> 0
A82: ='11'!G$12 -> 0 | B82: Hours - Routine Duties at School | F82: =+A82+M75 -> 0 | H82: ='12'!G$12 -> 0 | I82: Hours - Routine Duties at School | M82: =+F82+H82 -> 0
A83: ='11'!G$13 -> 0 | B83: Hours - Observation of Any Class | F83: =+A83+M76 -> 0 | H83: ='12'!G$13 -> 0 | I83: Hours - Observation of Any Class | M83: =+F83+H83 -> 0
A84: =SUM(A80:A83) -> 0 | B84: HOURS TOTAL | F84: =SUM(F80:F83) -> 0 | H84: =SUM(H80:H83) -> 0 | I84: HOURS TOTAL | M84: =SUM(M80:M83) -> 0
A86: WEEK | B86: 13 | F86: CumHrs | H86: WEEK | I86: 14 | M86: CumHrs
A87: ='13'!G$10 -> 0 | B87: Hours - Primary Responsibility | F87: =+A87+M80 -> 0 | H87: ='14'!G$10 -> 0 | I87: Hours - Primary Responsibility | M87: =+F87+H87 -> 0
A88: ='13'!G$11 -> 0 | B88: Hours - Co-teaching Responsibility | F88: =+A88+M81 -> 0 | H88: ='14'!G$11 -> 0 | I88: Hours - Co-teaching Responsibility | M88: =+F88+H88 -> 0
A89: ='13'!G$12 -> 0 | B89: Hours - Routine Duties at School | F89: =+A89+M82 -> 0 | H89: ='14'!G$12 -> 0 | I89: Hours - Routine Duties at School | M89: =+F89+H89 -> 0
A90: ='13'!G$13 -> 0 | B90: Hours - Observation of Any Class | F90: =+A90+M83 -> 0 | H90: ='14'!G$13 -> 0 | I90: Hours - Observation of Any Class | M90: =+F90+H90 -> 0
A91: =SUM(A87:A90) -> 0 | B91: HOURS TOTAL | F91: =SUM(F87:F90) -> 0 | H91: =SUM(H87:H90) -> 0 | I91: HOURS TOTAL | M91: =SUM(M87:M90) -> 0
A93: WEEK | B93: 15 | F93: CumHrs | H93: WEEK | I93: 16 | M93: CumHrs
A94: ='15'!G$10 -> 0 | B94: Hours - Primary Responsibility | F94: =+A94+M87 -> 0 | H94: ='16'!G$10 -> 0 | I94: Hours - Primary Responsibility | M94: =+F94+H94 -> 0
A95: ='15'!G$11 -> 0 | B95: Hours - Co-teaching Responsibility | F95: =+A95+M88 -> 0 | H95: ='16'!G$11 -> 0 | I95: Hours - Co-teaching Responsibility | M95: =+F95+H95 -> 0
A96: ='15'!G$12 -> 0 | B96: Hours - Routine Duties at School | F96: =+A96+M89 -> 0 | H96: ='16'!G$12 -> 0 | I96: Hours - Routine Duties at School | M96: =+F96+H96 -> 0
A97: ='15'!G$13 -> 0 | B97: Hours - Observation of Any Class | F97: =+A97+M90 -> 0 | H97: ='16'!G$13 -> 0 | I97: Hours - Observation of Any Class | M97: =+F97+H97 -> 0
A98: =SUM(A94:A97) -> 0 | B98: HOURS TOTAL | F98: =SUM(F94:F97) -> 0 | H98: =SUM(H94:H97) -> 0 | I98: HOURS TOTAL | M98: =SUM(M94:M97) -> 0
A100: WEEK | B100: 17 | F100: CumHrs | H100: WEEK | I100: 18 | M100: CumHrs
A101: ='17'!G$10 -> 0 | B101: Hours - Primary Responsibility | F101: =+A101+M94 -> 0 | H101: ='18'!G$10 -> 0 | I101: Hours - Primary Responsibility | M101: =+F101+H101 -> 0
A102: ='17'!G$11 -> 0 | B102: Hours - Co-teaching Responsibility | F102: =+A102+M95 -> 0 | H102: ='18'!G$11 -> 0 | I102: Hours - Co-teaching Responsibility | M102: =+F102+H102 -> 0
A103: ='17'!G$12 -> 0 | B103: Hours - Routine Duties at School | F103: =+A103+M96 -> 0 | H103: ='18'!G$12 -> 0 | I103: Hours - Routine Duties at School | M103: =+F103+H103 -> 0
A104: ='17'!G$13 -> 0 | B104: Hours - Observation of Any Class | F104: =+A104+M97 -> 0 | H104: ='18'!G$13 -> 0 | I104: Hours - Observation of Any Class | M104: =+F104+H104 -> 0
A105: =SUM(A101:A104) -> 0 | B105: HOURS TOTAL | F105: =SUM(F101:F104) -> 0 | H105: =SUM(H101:H104) -> 0 | I105: HOURS TOTAL | M105: =SUM(M101:M104) -> 0
A107: WEEK | B107: 19 | F107: CumHrs | H107: WEEK | I107: 20 | M107: CumHrs
A108: ='19'!G$10 -> 0 | B108: Hours - Primary Responsibility | F108: =+A108+M101 -> 0 | H108: ='20'!G$10 -> 0 | I108: Hours - Primary Responsibility | M108: =+F108+H108 -> 0
A109: ='19'!G$11 -> 0 | B109: Hours - Co-teaching Responsibility | F109: =+A109+M102 -> 0 | H109: ='20'!G$11 -> 0 | I109: Hours - Co-teaching Responsibility | M109: =+F109+H109 -> 0
A110: ='19'!G$12 -> 0 | B110: Hours - Routine Duties at School | F110: =+A110+M103 -> 0 | H110: ='20'!G$12 -> 0 | I110: Hours - Routine Duties at School | M110: =+F110+H110 -> 0
A111: ='19'!G$13 -> 0 | B111: Hours - Observation of Any Class | F111: =+A111+M104 -> 0 | H111: ='20'!G$13 -> 0 | I111: Hours - Observation of Any Class | M111: =+F111+H111 -> 0
A112: =SUM(A108:A111) -> 0 | B112: HOURS TOTAL | F112: =SUM(F108:F111) -> 0 | H112: =SUM(H108:H111) -> 0 | I112: HOURS TOTAL | M112: =SUM(M108:M111) -> 0
A114: WEEK | B114: 21 | F114: CumHrs | H114: WEEK | I114: 22 | M114: CumHrs
A115: ='21'!G$10 -> 0 | B115: Hours - Primary Responsibility | F115: =+A115+M108 -> 0 | H115: ='22'!G$10 -> 0 | I115: Hours - Primary Responsibility | M115: =+F115+H115 -> 0
A116: ='21'!G$11 -> 0 | B116: Hours - Co-teaching Responsibility | F116: =+A116+M109 -> 0 | H116: ='22'!G$11 -> 0 | I116: Hours - Co-teaching Responsibility | M116: =+F116+H116 -> 0
A117: ='21'!G$12 -> 0 | B117: Hours - Routine Duties at School | F117: =+A117+M110 -> 0 | H117: ='22'!G$12 -> 0 | I117: Hours - Routine Duties at School | M117: =+F117+H117 -> 0
A118: ='21'!G$13 -> 0 | B118: Hours - Observation of Any Class | F118: =+A118+M111 -> 0 | H118: ='22'!G$13 -> 0 | I118: Hours - Observation of Any Class | M118: =+F118+H118 -> 0
A119: =SUM(A115:A118) -> 0 | B119: HOURS TOTAL | F119: =SUM(F115:F118) -> 0 | H119: =SUM(H115:H118) -> 0 | I119: HOURS TOTAL | M119: =SUM(M115:M118) -> 0
A121: WEEK | B121: 23 | F121: CumHrs | H121: WEEK | I121: 24 | M121: CumHrs
A122: ='23'!G$10 -> 0 | B122: Hours - Primary Responsibility | F122: =+A122+M115 -> 0 | H122: ='24'!G$10 -> 0 | I122: Hours - Primary Responsibility | M122: =+F122+H122 -> 0
A123: ='23'!G$11 -> 0 | B123: Hours - Co-teaching Responsibility | F123: =+A123+M116 -> 0 | H123: ='24'!G$11 -> 0 | I123: Hours - Co-teaching Responsibility | M123: =+F123+H123 -> 0
A124: ='23'!G$12 -> 0 | B124: Hours - Routine Duties at School | F124: =+A124+M117 -> 0 | H124: ='24'!G$12 -> 0 | I124: Hours - Routine Duties at School | M124: =+F124+H124 -> 0
A125: ='23'!G$13 -> 0 | B125: Hours - Observation of Any Class | F125: =+A125+M118 -> 0 | H125: ='24'!G$13 -> 0 | I125: Hours - Observation of Any Class | M125: =+F125+H125 -> 0
...

Sheet 1
C1: Student Teacher: | D1: =CumHrs!I1 -> 0
C2: Week: | D2: 1
C3: Dates of Report Period: | E3: to
A5: STUDENT TEACHER WEEKLY REPORT FORM
A7: SEND to your ASSIGNED UNIVERSITY CONSULTANT(S) BY 8 a.m. on MONDAY
A9: Record of Experience | B9: Monday | C9: Tuesday | D9: Wednesday | E9: Thursday | F9: Friday | G9: Total
A10: Primary Responsibility | G10: =SUM(B10:F10) -> 0
A11: Co-Teaching Responsibility | G11: =SUM(B11:F11) -> 0
A12: Routine Duties at School (preparation, conferences, team meetings, extra curric) | G12: =SUM(B12:F12) -> 0
A13: Observation of any Class | G13: =SUM(B13:F13) -> 0
A14: TOTALS: | B14: =SUM(B10:B13) -> 0 | C14: =SUM(C10:C13) -> 0 | D14: =SUM(D10:D13) -> 0 | E14: =SUM(E10:E13) -> 0 | F14: =SUM(F10:F13) -> 0 | G14: =SUM(G10:G13) -> 0
A16: EXPECTED TEACHING AND OBSERVATION TIMES FOR NEXT WEEK
A17: Be sure to contact your university consultant if this schedule changes.
A18: Periods/Times | B18: Monday | C18: Tuesday | D18: Wednesday | E18: Thursday | F18: Friday

Sheet 2
C1: Student Teacher: | D1: =CumHrs!I1 -> 0
C2: Week: | D2: 2
C3: Dates of Report Period: | E3: to
A5: STUDENT TEACHER WEEKLY REPORT FORM
A7: SEND to your ASSIGNED UNIVERSITY CONSULTANT(S) BY 8 a.m. on MONDAY
A9: Record of Experience | B9: Monday | C9: Tuesday | D9: Wednesday | E9: Thursday | F9: Friday | G9: Total
A10: Primary Responsibility | G10: =SUM(B10:F10) -> 0
A11: Co-Teaching Responsibility | G11: =SUM(B11:F11) -> 0
A12: Routine Duties at School (preparation, conferences, team meetings, extra curric) | G12: =SUM(B12:F12) -> 0
A13: Observation of any Class | G13: =SUM(B13:F13) -> 0
A14: TOTALS: | B14: =SUM(B10:B13) -> 0 | C14: =SUM(C10:C13) -> 0 | D14: =SUM(D10:D13) -> 0 | E14: =SUM(E10:E13) -> 0 | F14: =SUM(F10:F13) -> 0 | G14: =SUM(G10:G13) -> 0
A16: EXPECTED TEACHING AND OBSERVATION TIMES FOR NEXT WEEK
A17: Be sure to contact your university consultant if this schedule changes.
A18: Periods/Times | B18: Monday | C18: Tuesday | D18: Wednesday | E18: Thursday | F18: Friday

Sheet 3
C1: Student Teacher: | D1: =CumHrs!I1 -> 0
C2: Week: | D2: 3
C3: Dates of Report Period: | E3: to
A5: STUDENT TEACHER WEEKLY REPORT FORM
A7: SEND to your ASSIGNED UNIVERSITY CONSULTANT(S) BY 8 a.m. on MONDAY
A9: Record of Experience | B9: Monday | C9: Tuesday | D9: Wednesday | E9: Thursday | F9: Friday | G9: Total
A10: Primary Responsibility | G10: =SUM(B10:F10) -> 0
A11: Co-Teaching Responsibility | G11: =SUM(B11:F11) -> 0
A12: Routine Duties at School (preparation, conferences, team meetings, extra curric) | G12: =SUM(B12:F12) -> 0
A13: Observation of any Class | G13: =SUM(B13:F13) -> 0
A14: TOTALS: | B14: =SUM(B10:B13) -> 0 | C14: =SUM(C10:C13) -> 0 | D14: =SUM(D10:D13) -> 0 | E14: =SUM(E10:E13) -> 0 | F14: =SUM(F10:F13) -> 0 | G14: =SUM(G10:G13) -> 0
A16: EXPECTED TEACHING AND OBSERVATION TIMES FOR NEXT WEEK
A17: Be sure to contact your university consultant if this schedule changes.
A18: Periods/Times | B18: Monday | C18: Tuesday | D18: Wednesday | E18: Thursday | F18: Friday

Sheet 4
C1: Student Teacher: | D1: =CumHrs!I1 -> 0
C2: Week: | D2: 4
C3: Dates of Report Period: | E3: to
A5: STUDENT TEACHER WEEKLY REPORT FORM
A7: SEND to your ASSIGNED UNIVERSITY CONSULTANT(S) BY 8 a.m. on MONDAY
A9: Record of Experience | B9: Monday | C9: Tuesday | D9: Wednesday | E9: Thursday | F9: Friday | G9: Total
A10: Primary Responsibility | G10: =SUM(B10:F10) -> 0
A11: Co-Teaching Responsibility | G11: =SUM(B11:F11) -> 0
A12: Routine Duties at School (preparation, conferences, team meetings, extra curric) | G12: =SUM(B12:F12) -> 0
A13: Observation of any Class | G13: =SUM(B13:F13) -> 0
A14: TOTALS: | B14: =SUM(B10:B13) -> 0 | C14: =SUM(C10:C13) -> 0 | D14: =SUM(D10:D13) -> 0 | E14: =SUM(E10:E13) -> 0 | F14: =SUM(F10:F13) -> 0 | G14: =SUM(G10:G13) -> 0
A16: EXPECTED TEACHING AND OBSERVATION TIMES FOR NEXT WEEK
A17: Be sure to contact your university consultant if this schedule changes.
A18: Periods/Times | B18: Monday | C18: Tuesday | D18: Wednesday | E18: Thursday | F18: Friday

Sheet 5
C1: Student Teacher: | D1: =CumHrs!I1 -> 0
C2: Week: | D2: 5
C3: Dates of Report Period: | E3: to
A5: STUDENT TEACHER WEEKLY REPORT FORM
A7: SEND to your ASSIGNED UNIVERSITY CONSULTANT(S) BY 8 a.m. on MONDAY
A9: Record of Experience | B9: Monday | C9: Tuesday | D9: Wednesday | E9: Thursday | F9: Friday | G9: Total
A10: Primary Responsibility | G10: =SUM(B10:F10) -> 0
A11: Co-Teaching Responsibility | G11: =SUM(B11:F11) -> 0
A12: Routine Duties at School (preparation, conferences, team meetings, extra curric) | G12: =SUM(B12:F12) -> 0
A13: Observation of any Class | G13: =SUM(B13:F13) -> 0
A14: TOTALS: | B14: =SUM(B10:B13) -> 0 | C14: =SUM(C10:C13) -> 0 | D14: =SUM(D10:D13) -> 0 | E14: =SUM(E10:E13) -> 0 | F14: =SUM(F10:F13) -> 0 | G14: =SUM(G10:G13) -> 0
A16: EXPECTED TEACHING AND OBSERVATION TIMES FOR NEXT WEEK
A17: Be sure to contact your university consultant if this schedule changes.
A18: Periods/Times | B18: Monday | C18: Tuesday | D18: Wednesday | E18: Thursday | F18: Friday

Sheet 6
C1: Student Teacher: | D1: =CumHrs!I1 -> 0
C2: Week: | D2: 6
C3: Dates of Report Period: | E3: to
A5: STUDENT TEACHER WEEKLY REPORT FORM
A7: SEND to your ASSIGNED UNIVERSITY CONSULTANT(S) BY 8 a.m. on MONDAY
A9: Record of Experience | B9: Monday | C9: Tuesday | D9: Wednesday | E9: Thursday | F9: Friday | G9: Total
A10: Primary Responsibility | G10: =SUM(B10:F10) -> 0
A11: Co-Teaching Responsibility | G11: =SUM(B11:F11) -> 0
A12: Routine Duties at School (preparation, conferences, team meetings, extra curric) | G12: =SUM(B12:F12) -> 0
A13: Observation of any Class | G13: =SUM(B13:F13) -> 0
A14: TOTALS: | B14: =SUM(B10:B13) -> 0 | C14: =SUM(C10:C13) -> 0 | D14: =SUM(D10:D13) -> 0 | E14: =SUM(E10:E13) -> 0 | F14: =SUM(F10:F13) -> 0 | G14: =SUM(G10:G13) -> 0
A16: EXPECTED TEACHING AND OBSERVATION TIMES FOR NEXT WEEK
A17: Be sure to contact your university consultant if this schedule changes.
A18: Periods/Times | B18: Monday | C18: Tuesday | D18: Wednesday | E18: Thursday | F18: Friday

Sheet 7
C1: Student Teacher: | D1: =CumHrs!I1 -> 0
C2: Week: | D2: 7
C3: Dates of Report Period: | E3: to
A5: STUDENT TEACHER WEEKLY REPORT FORM
A7: SEND to your ASSIGNED UNIVERSITY CONSULTANT(S) BY 8 a.m. on MONDAY
A9: Record of Experience | B9: Monday | C9: Tuesday | D9: Wednesday | E9: Thursday | F9: Friday | G9: Total
A10: Primary Responsibility | G10: =SUM(B10:F10) -> 0
A11: Co-Teaching Responsibility | G11: =SUM(B11:F11) -> 0
A12: Routine Duties at School (preparation, conferences, team meetings, extra curric) | G12: =SUM(B12:F12) -> 0
A13: Observation of any Class | G13: =SUM(B13:F13) -> 0
A14: TOTALS: | B14: =SUM(B10:B13) -> 0 | C14: =SUM(C10:C13) -> 0 | D14: =SUM(D10:D13) -> 0 | E14: =SUM(E10:E13) -> 0 | F14: =SUM(F10:F13) -> 0 | G14: =SUM(G10:G13) -> 0
A16: EXPECTED TEACHING AND OBSERVATION TIMES FOR NEXT WEEK
A17: Be sure to contact your university consultant if this schedule changes.
A18: Periods/Times | B18: Monday | C18: Tuesday | D18: Wednesday | E18: Thursday | F18: Friday

Sheet 8
C1: Student Teacher: | D1: =CumHrs!I1 -> 0
C2: Week: | D2: 8
C3: Dates of Report Period: | E3: to
A5: STUDENT TEACHER WEEKLY REPORT FORM
A7: SEND to your ASSIGNED UNIVERSITY CONSULTANT(S) BY 8 a.m. on MONDAY
A9: Record of Experience | B9: Monday | C9: Tuesday | D9: Wednesday | E9: Thursday | F9: Friday | G9: Total
A10: Primary Responsibility | G10: =SUM(B10:F10) -> 0
A11: Co-Teaching Responsibility | G11: =SUM(B11:F11) -> 0
A12: Routine Duties at School (preparation, conferences, team meetings, extra curric) | G12: =SUM(B12:F12) -> 0
A13: Observation of any Class | G13: =SUM(B13:F13) -> 0
A14: TOTALS: | B14: =SUM(B10:B13) -> 0 | C14: =SUM(C10:C13) -> 0 | D14: =SUM(D10:D13) -> 0 | E14: =SUM(E10:E13) -> 0 | F14: =SUM(F10:F13) -> 0 | G14: =SUM(G10:G13) -> 0
A16: EXPECTED TEACHING AND OBSERVATION TIMES FOR NEXT WEEK
A17: Be sure to contact your university consultant if this schedule changes.
A18: Periods/Times | B18: Monday | C18: Tuesday | D18: Wednesday | E18: Thursday | F18: Friday

Sheet 9
C1: Student Teacher: | D1: =CumHrs!I1 -> 0
C2: Week: | D2: 9
C3: Dates of Report Period: | E3: to
A5: STUDENT TEACHER WEEKLY REPORT FORM
A7: SEND to your ASSIGNED UNIVERSITY CONSULTANT(S) BY 8 a.m. on MONDAY
A9: Record of Experience | B9: Monday | C9: Tuesday | D9: Wednesday | E9: Thursday | F9: Friday | G9: Total
A10: Primary Responsibility | G10: =SUM(B10:F10) -> 0
A11: Co-Teaching Responsibility | G11: =SUM(B11:F11) -> 0
A12: Routine Duties at School (preparation, conferences, team meetings, extra curric) | G12: =SUM(B12:F12) -> 0
A13: Observation of any Class | G13: =SUM(B13:F13) -> 0
A14: TOTALS: | B14: =SUM(B10:B13) -> 0 | C14: =SUM(C10:C13) -> 0 | D14: =SUM(D10:D13) -> 0 | E14: =SUM(E10:E13) -> 0 | F14: =SUM(F10:F13) -> 0 | G14: =SUM(G10:G13) -> 0
A16: EXPECTED TEACHING AND OBSERVATION TIMES FOR NEXT WEEK
A17: Be sure to contact your university consultant if this schedule changes.
A18: Periods/Times | B18: Monday | C18: Tuesday | D18: Wednesday | E18: Thursday | F18: Friday

Sheet 10
C1: Student Teacher: | D1: =CumHrs!I1 -> 0
C2: Week: | D2: 10
C3: Dates of Report Period: | E3: to
A5: STUDENT TEACHER WEEKLY REPORT FORM
A7: SEND to your ASSIGNED UNIVERSITY CONSULTANT(S) BY 8 a.m. on MONDAY
A9: Record of Experience | B9: Monday | C9: Tuesday | D9: Wednesday | E9: Thursday | F9: Friday | G9: Total
A10: Primary Responsibility | G10: =SUM(B10:F10) -> 0
A11: Co-Teaching Responsibility | G11: =SUM(B11:F11) -> 0
A12: Routine Duties at School (preparation, conferences, team meetings, extra curric) | G12: =SUM(B12:F12) -> 0
A13: Observation of any Class | G13: =SUM(B13:F13) -> 0
A14: TOTALS: | B14: =SUM(B10:B13) -> 0 | C14: =SUM(C10:C13) -> 0 | D14: =SUM(D10:D13) -> 0 | E14: =SUM(E10:E13) -> 0 | F14: =SUM(F10:F13) -> 0 | G14: =SUM(G10:G13) -> 0
A16: EXPECTED TEACHING AND OBSERVATION TIMES FOR NEXT WEEK
A17: Be sure to contact your university consultant if this schedule changes.
A18: Periods/Times | B18: Monday | C18: Tuesday | D18: Wednesday | E18: Thursday | F18: Friday

Sheet 11
C1: Student Teacher: | D1: =CumHrs!I1 -> 0
C2: Week: | D2: 11
C3: Dates of Report Period: | E3: to
A5: STUDENT TEACHER WEEKLY REPORT FORM
A7: SEND to your ASSIGNED UNIVERSITY CONSULTANT(S) BY 8 a.m. on MONDAY
A9: Record of Experience | B9: Monday | C9: Tuesday | D9: Wednesday | E9: Thursday | F9: Friday | G9: Total
A10: Primary Responsibility | G10: =SUM(B10:F10) -> 0
A11: Co-Teaching Responsibility | G11: =SUM(B11:F11) -> 0
A12: Routine Duties at School (preparation, conferences, team meetings, extra curric) | G12: =SUM(B12:F12) -> 0
A13: Observation of any Class | G13: =SUM(B13:F13) -> 0
A14: TOTALS: | B14: =SUM(B10:B13) -> 0 | C14: =SUM(C10:C13) -> 0 | D14: =SUM(D10:D13) -> 0 | E14: =SUM(E10:E13) -> 0 | F14: =SUM(F10:F13) -> 0 | G14: =SUM(G10:G13) -> 0
A16: EXPECTED TEACHING AND OBSERVATION TIMES FOR NEXT WEEK
A17: Be sure to contact your university consultant if this schedule changes.
A18: Periods/Times | B18: Monday | C18: Tuesday | D18: Wednesday | E18: Thursday | F18: Friday

Sheet 12
C1: Student Teacher: | D1: =CumHrs!I1 -> 0
C2: Week: | D2: 12
C3: Dates of Report Period: | E3: to
A5: STUDENT TEACHER WEEKLY REPORT FORM
A7: SEND to your ASSIGNED UNIVERSITY CONSULTANT(S) BY 8 a.m. on MONDAY
A9: Record of Experience | B9: Monday | C9: Tuesday | D9: Wednesday | E9: Thursday | F9: Friday | G9: Total
A10: Primary Responsibility | G10: =SUM(B10:F10) -> 0
A11: Co-Teaching Responsibility | G11: =SUM(B11:F11) -> 0
A12: Routine Duties at School (preparation, conferences, team meetings, extra curric) | G12: =SUM(B12:F12) -> 0
A13: Observation of any Class | G13: =SUM(B13:F13) -> 0
A14: TOTALS: | B14: =SUM(B10:B13) -> 0 | C14: =SUM(C10:C13) -> 0 | D14: =SUM(D10:D13) -> 0 | E14: =SUM(E10:E13) -> 0 | F14: =SUM(F10:F13) -> 0 | G14: =SUM(G10:G13) -> 0
A16: EXPECTED TEACHING AND OBSERVATION TIMES FOR NEXT WEEK
A17: Be sure to contact your university consultant if this schedule changes.
A18: Periods/Times | B18: Monday | C18: Tuesday | D18: Wednesday | E18: Thursday | F18: Friday

Sheet 13
C1: Student Teacher: | D1: =CumHrs!I1 -> 0
C2: Week: | D2: 13
C3: Dates of Report Period: | E3: to
A5: STUDENT TEACHER WEEKLY REPORT FORM
A7: SEND to your ASSIGNED UNIVERSITY CONSULTANT(S) BY 8 a.m. on MONDAY
A9: Record of Experience | B9: Monday | C9: Tuesday | D9: Wednesday | E9: Thursday | F9: Friday | G9: Total
A10: Primary Responsibility | G10: =SUM(B10:F10) -> 0
A11: Co-Teaching Responsibility | G11: =SUM(B11:F11) -> 0
A12: Routine Duties at School (preparation, conferences, team meetings, extra curric) | G12: =SUM(B12:F12) -> 0
A13: Observation of any Class | G13: =SUM(B13:F13) -> 0
A14: TOTALS: | B14: =SUM(B10:B13) -> 0 | C14: =SUM(C10:C13) -> 0 | D14: =SUM(D10:D13) -> 0 | E14: =SUM(E10:E13) -> 0 | F14: =SUM(F10:F13) -> 0 | G14: =SUM(G10:G13) -> 0
A16: EXPECTED TEACHING AND OBSERVATION TIMES FOR NEXT WEEK
A17: Be sure to contact your university consultant if this schedule changes.
A18: Periods/Times | B18: Monday | C18: Tuesday | D18: Wednesday | E18: Thursday | F18: Friday

Sheet 14
C1: Student Teacher: | D1: =CumHrs!I1 -> 0
C2: Week: | D2: 14
C3: Dates of Report Period: | E3: to
A5: STUDENT TEACHER WEEKLY REPORT FORM
A7: SEND to your ASSIGNED UNIVERSITY CONSULTANT(S) BY 8 a.m. on MONDAY
A9: Record of Experience | B9: Monday | C9: Tuesday | D9: Wednesday | E9: Thursday | F9: Friday | G9: Total
A10: Primary Responsibility | G10: =SUM(B10:F10) -> 0
A11: Co-Teaching Responsibility | G11: =SUM(B11:F11) -> 0
A12: Routine Duties at School (preparation, conferences, team meetings, extra curric) | G12: =SUM(B12:F12) -> 0
A13: Observation of any Class | G13: =SUM(B13:F13) -> 0
A14: TOTALS: | B14: =SUM(B10:B13) -> 0 | C14: =SUM(C10:C13) -> 0 | D14: =SUM(D10:D13) -> 0 | E14: =SUM(E10:E13) -> 0 | F14: =SUM(F10:F13) -> 0 | G14: =SUM(G10:G13) -> 0
A16: EXPECTED TEACHING AND OBSERVATION TIMES FOR NEXT WEEK
A17: Be sure to contact your university consultant if this schedule changes.
A18: Periods/Times | B18: Monday | C18: Tuesday | D18: Wednesday | E18: Thursday | F18: Friday

Sheet 15
C1: Student Teacher: | D1: =CumHrs!I1 -> 0
C2: Week: | D2: 15
C3: Dates of Report Period: | E3: to
A5: STUDENT TEACHER WEEKLY REPORT FORM
A7: SEND to your ASSIGNED UNIVERSITY CONSULTANT(S) BY 8 a.m. on MONDAY
A9: Record of Experience | B9: Monday | C9: Tuesday | D9: Wednesday | E9: Thursday | F9: Friday | G9: Total
A10: Primary Responsibility | G10: =SUM(B10:F10) -> 0
A11: Co-Teaching Responsibility | G11: =SUM(B11:F11) -> 0
A12: Routine Duties at School (preparation, conferences, team meetings, extra curric) | G12: =SUM(B12:F12) -> 0
A13: Observation of any Class | G13: =SUM(B13:F13) -> 0
A14: TOTALS: | B14: =SUM(B10:B13) -> 0 | C14: =SUM(C10:C13) -> 0 | D14: =SUM(D10:D13) -> 0 | E14: =SUM(E10:E13) -> 0 | F14: =SUM(F10:F13) -> 0 | G14: =SUM(G10:G13) -> 0
A16: EXPECTED TEACHING AND OBSERVATION TIMES FOR NEXT WEEK
A17: Be sure to contact your university consultant if this schedule changes.
A18: Periods/Times | B18: Monday | C18: Tuesday | D18: Wednesday | E18: Thursday | F18: Friday

Sheet 16
C1: Student Teacher: | D1: =CumHrs!I1 -> 0
C2: Week: | D2: 16
C3: Dates of Report Period: | E3: to
A5: STUDENT TEACHER WEEKLY REPORT FORM
A7: SEND to your ASSIGNED UNIVERSITY CONSULTANT(S) BY 8 a.m. on MONDAY
A9: Record of Experience | B9: Monday | C9: Tuesday | D9: Wednesday | E9: Thursday | F9: Friday | G9: Total
A10: Primary Responsibility | G10: =SUM(B10:F10) -> 0
A11: Co-Teaching Responsibility | G11: =SUM(B11:F11) -> 0
A12: Routine Duties at School (preparation, conferences, team meetings, extra curric) | G12: =SUM(B12:F12) -> 0
A13: Observation of any Class | G13: =SUM(B13:F13) -> 0
A14: TOTALS: | B14: =SUM(B10:B13) -> 0 | C14: =SUM(C10:C13) -> 0 | D14: =SUM(D10:D13) -> 0 | E14: =SUM(E10:E13) -> 0 | F14: =SUM(F10:F13) -> 0 | G14: =SUM(G10:G13) -> 0
A16: EXPECTED TEACHING AND OBSERVATION TIMES FOR NEXT WEEK
A17: Be sure to contact your university consultant if this schedule changes.
A18: Periods/Times | B18: Monday | C18: Tuesday | D18: Wednesday | E18: Thursday | F18: Friday

Sheet 17
C1: Student Teacher: | D1: =CumHrs!I1 -> 0
C2: Week: | D2: 17
C3: Dates of Report Period: | E3: to
A5: STUDENT TEACHER WEEKLY REPORT FORM
A7: SEND to your ASSIGNED UNIVERSITY CONSULTANT(S) BY 8 a.m. on MONDAY
A9: Record of Experience | B9: Monday | C9: Tuesday | D9: Wednesday | E9: Thursday | F9: Friday | G9: Total
A10: Primary Responsibility | G10: =SUM(B10:F10) -> 0
A11: Co-Teaching Responsibility | G11: =SUM(B11:F11) -> 0
A12: Routine Duties at School (preparation, conferences, team meetings, extra curric) | G12: =SUM(B12:F12) -> 0
A13: Observation of any Class | G13: =SUM(B13:F13) -> 0
A14: TOTALS: | B14: =SUM(B10:B13) -> 0 | C14: =SUM(C10:C13) -> 0 | D14: =SUM(D10:D13) -> 0 | E14: =SUM(E10:E13) -> 0 | F14: =SUM(F10:F13) -> 0 | G14: =SUM(G10:G13) -> 0
A16: EXPECTED TEACHING AND OBSERVATION TIMES FOR NEXT WEEK
A17: Be sure to contact your university consultant if this schedule changes.
A18: Periods/Times | B18: Monday | C18: Tuesday | D18: Wednesday | E18: Thursday | F18: Friday

Sheet 18
C1: Student Teacher: | D1: =CumHrs!I1 -> 0
C2: Week: | D2: 18
C3: Dates of Report Period: | E3: to
A5: STUDENT TEACHER WEEKLY REPORT FORM
A7: SEND to your ASSIGNED UNIVERSITY CONSULTANT(S) BY 8 a.m. on MONDAY
A9: Record of Experience | B9: Monday | C9: Tuesday | D9: Wednesday | E9: Thursday | F9: Friday | G9: Total
A10: Primary Responsibility | G10: =SUM(B10:F10) -> 0
A11: Co-Teaching Responsibility | G11: =SUM(B11:F11) -> 0
A12: Routine Duties at School (preparation, conferences, team meetings, extra curric) | G12: =SUM(B12:F12) -> 0
A13: Observation of any Class | G13: =SUM(B13:F13) -> 0
A14: TOTALS: | B14: =SUM(B10:B13) -> 0 | C14: =SUM(C10:C13) -> 0 | D14: =SUM(D10:D13) -> 0 | E14: =SUM(E10:E13) -> 0 | F14: =SUM(F10:F13) -> 0 | G14: =SUM(G10:G13) -> 0
A16: EXPECTED TEACHING AND OBSERVATION TIMES FOR NEXT WEEK
A17: Be sure to contact your university consultant if this schedule changes.
A18: Periods/Times | B18: Monday | C18: Tuesday | D18: Wednesday | E18: Thursday | F18: Friday

Sheet 19
C1: Student Teacher: | D1: =CumHrs!I1 -> 0
C2: Week: | D2: 19
C3: Dates of Report Period: | E3: to
A5: STUDENT TEACHER WEEKLY REPORT FORM
A7: SEND to your ASSIGNED UNIVERSITY CONSULTANT(S) BY 8 a.m. on MONDAY
A9: Record of Experience | B9: Monday | C9: Tuesday | D9: Wednesday | E9: Thursday | F9: Friday | G9: Total
A10: Primary Responsibility | G10: =SUM(B10:F10) -> 0
A11: Co-Teaching Responsibility | G11: =SUM(B11:F11) -> 0
A12: Routine Duties at School (preparation, conferences, team meetings, extra curric) | G12: =SUM(B12:F12) -> 0
A13: Observation of any Class | G13: =SUM(B13:F13) -> 0
A14: TOTALS: | B14: =SUM(B10:B13) -> 0 | C14: =SUM(C10:C13) -> 0 | D14: =SUM(D10:D13) -> 0 | E14: =SUM(E10:E13) -> 0 | F14: =SUM(F10:F13) -> 0 | G14: =SUM(G10:G13) -> 0
A16: EXPECTED TEACHING AND OBSERVATION TIMES FOR NEXT WEEK
A17: Be sure to contact your university consultant if this schedule changes.
A18: Periods/Times | B18: Monday | C18: Tuesday | D18: Wednesday | E18: Thursday | F18: Friday

Sheet 20
C1: Student Teacher: | D1: =CumHrs!I1 -> 0
C2: Week: | D2: 20
C3: Dates of Report Period: | E3: to
A5: STUDENT TEACHER WEEKLY REPORT FORM
A7: SEND to your ASSIGNED UNIVERSITY CONSULTANT(S) BY 8 a.m. on MONDAY
A9: Record of Experience | B9: Monday | C9: Tuesday | D9: Wednesday | E9: Thursday | F9: Friday | G9: Total
A10: Primary Responsibility | G10: =SUM(B10:F10) -> 0
A11: Co-Teaching Responsibility | G11: =SUM(B11:F11) -> 0
A12: Routine Duties at School (preparation, conferences, team meetings, extra curric) | G12: =SUM(B12:F12) -> 0
A13: Observation of any Class | G13: =SUM(B13:F13) -> 0
A14: TOTALS: | B14: =SUM(B10:B13) -> 0 | C14: =SUM(C10:C13) -> 0 | D14: =SUM(D10:D13) -> 0 | E14: =SUM(E10:E13) -> 0 | F14: =SUM(F10:F13) -> 0 | G14: =SUM(G10:G13) -> 0
A16: EXPECTED TEACHING AND OBSERVATION TIMES FOR NEXT WEEK
A17: Be sure to contact your university consultant if this schedule changes.
A18: Periods/Times | B18: Monday | C18: Tuesday | D18: Wednesday | E18: Thursday | F18: Friday

Sheet 21
C1: Student Teacher: | D1: =CumHrs!I1 -> 0
C2: Week: | D2: 21
C3: Dates of Report Period: | E3: to
A5: STUDENT TEACHER WEEKLY REPORT FORM
A7: SEND to your ASSIGNED UNIVERSITY CONSULTANT(S) BY 8 a.m. on MONDAY
A9: Record of Experience | B9: Monday | C9: Tuesday | D9: Wednesday | E9: Thursday | F9: Friday | G9: Total
A10: Primary Responsibility | G10: =SUM(B10:F10) -> 0
A11: Co-Teaching Responsibility | G11: =SUM(B11:F11) -> 0
A12: Routine Duties at School (preparation, conferences, team meetings, extra curric) | G12: =SUM(B12:F12) -> 0
A13: Observation of any Class | G13: =SUM(B13:F13) -> 0
A14: TOTALS: | B14: =SUM(B10:B13) -> 0 | C14: =SUM(C10:C13) -> 0 | D14: =SUM(D10:D13) -> 0 | E14: =SUM(E10:E13) -> 0 | F14: =SUM(F10:F13) -> 0 | G14: =SUM(G10:G13) -> 0
A16: EXPECTED TEACHING AND OBSERVATION TIMES FOR NEXT WEEK
A17: Be sure to contact your university consultant if this schedule changes.
A18: Periods/Times | B18: Monday | C18: Tuesday | D18: Wednesday | E18: Thursday | F18: Friday

Sheet 22
C1: Student Teacher: | D1: =CumHrs!I1 -> 0
C2: Week: | D2: 22
C3: Dates of Report Period: | E3: to
A5: STUDENT TEACHER WEEKLY REPORT FORM
A7: SEND to your ASSIGNED UNIVERSITY CONSULTANT(S) BY 8 a.m. on MONDAY
A9: Record of Experience | B9: Monday | C9: Tuesday | D9: Wednesday | E9: Thursday | F9: Friday | G9: Total
A10: Primary Responsibility | G10: =SUM(B10:F10) -> 0
A11: Co-Teaching Responsibility | G11: =SUM(B11:F11) -> 0
A12: Routine Duties at School (preparation, conferences, team meetings, extra curric) | G12: =SUM(B12:F12) -> 0
A13: Observation of any Class | G13: =SUM(B13:F13) -> 0
A14: TOTALS: | B14: =SUM(B10:B13) -> 0 | C14: =SUM(C10:C13) -> 0 | D14: =SUM(D10:D13) -> 0 | E14: =SUM(E10:E13) -> 0 | F14: =SUM(F10:F13) -> 0 | G14: =SUM(G10:G13) -> 0
A16: EXPECTED TEACHING AND OBSERVATION TIMES FOR NEXT WEEK
A17: Be sure to contact your university consultant if this schedule changes.
A18: Periods/Times | B18: Monday | C18: Tuesday | D18: Wednesday | E18: Thursday | F18: Friday

Sheet 23
C1: Student Teacher: | D1: =CumHrs!I1 -> 0
C2: Week: | D2: 23
C3: Dates of Report Period: | E3: to
A5: STUDENT TEACHER WEEKLY REPORT FORM
A7: SEND to your ASSIGNED UNIVERSITY CONSULTANT(S) BY 8 a.m. on MONDAY
A9: Record of Experience | B9: Monday | C9: Tuesday | D9: Wednesday | E9: Thursday | F9: Friday | G9: Total
A10: Primary Responsibility | G10: =SUM(B10:F10) -> 0
A11: Co-Teaching Responsibility | G11: =SUM(B11:F11) -> 0
A12: Routine Duties at School (preparation, conferences, team meetings, extra curric) | G12: =SUM(B12:F12) -> 0
A13: Observation of any Class | G13: =SUM(B13:F13) -> 0
A14: TOTALS: | B14: =SUM(B10:B13) -> 0 | C14: =SUM(C10:C13) -> 0 | D14: =SUM(D10:D13) -> 0 | E14: =SUM(E10:E13) -> 0 | F14: =SUM(F10:F13) -> 0 | G14: =SUM(G10:G13) -> 0
A16: EXPECTED TEACHING AND OBSERVATION TIMES FOR NEXT WEEK
A17: Be sure to contact your university consultant if this schedule changes.
A18: Periods/Times | B18: Monday | C18: Tuesday | D18: Wednesday | E18: Thursday | F18: Friday

Sheet 24
C1: Student Teacher: | D1: =CumHrs!I1 -> 0
C2: Week: | D2: 24
C3: Dates of Report Period: | E3: to
A5: STUDENT TEACHER WEEKLY REPORT FORM
A7: SEND to your ASSIGNED UNIVERSITY CONSULTANT(S) BY 8 a.m. on MONDAY
A9: Record of Experience | B9: Monday | C9: Tuesday | D9: Wednesday | E9: Thursday | F9: Friday | G9: Total
A10: Primary Responsibility | G10: =SUM(B10:F10) -> 0
A11: Co-Teaching Responsibility | G11: =SUM(B11:F11) -> 0
A12: Routine Duties at School (preparation, conferences, team meetings, extra curric) | G12: =SUM(B12:F12) -> 0
A13: Observation of any Class | G13: =SUM(B13:F13) -> 0
A14: TOTALS: | B14: =SUM(B10:B13) -> 0 | C14: =SUM(C10:C13) -> 0 | D14: =SUM(D10:D13) -> 0 | E14: =SUM(E10:E13) -> 0 | F14: =SUM(F10:F13) -> 0 | G14: =SUM(G10:G13) -> 0
A16: EXPECTED TEACHING AND OBSERVATION TIMES FOR NEXT WEEK
A17: Be sure to contact your university consultant if this schedule changes.
A18: Periods/Times | B18: Monday | C18: Tuesday | D18: Wednesday | E18: Thursday | F18: Friday
