Workbook

Sheet Part 1 - Education Prgms only
A1: Virginia Board of Education - Standards for Biennial Approval of Education Programs
A2: Accountability Measurement of Partnerships and Collaborations (8VAC20-542-40.7.a)
A3: Part 1: Education Programs (excluding Administration and Supervision Programs)
B5: Name of Institution: | C5: Eastern Mennonite University
B6: Contact Person: | C6: Cathy Smeltzer Erb
B7: Phone No.: | C7: (540) 432-4638
B8: Reporting Date: | C8: 41061
A10: Number | B10: Education Programs - Partnership and Collaboration Name | C10: Partnership and Collaboration Description - Please provide a brief description of the partnership and collaboration (about 50 words or less). | T10: Description of PreK-12 School Needs - Briefly describe (about 50 words or less) how the partnership and collaboration meet the identified needs of the PreK-12 community. | AG10: Partners and Collaborators - Please list the names of the entities that took part in the partnership and collaboration. | AR10: Evidence of Agreement - Is there written documentation with the partners and collaborators? Yes or No?
A11: 1. | B11: Early Learning Center | C11: The Early Learning Center serves as the laboratory school for the PreK-3 and PreK-6 endorsement programs. | T11: Under the supervision of Early Learning Center faculty, Eastern Mennonite University (EMU) PreK-3 and PreK-6 candidates plan and implement developmentally appropriate curriculum for children ages 2-4. | AG11: PreK-3 and PreK-6 teacher education candidates, EMU teacher education faculty, and the Early Learning Center | AR11: Yes
A12: 2. | B12: Early Bird Tutoring | C12: The field experience allows candidates to work with a K-5 student in need of assistance in a one-on-one tutoring setting. Candidates will provide extra support in literacy with the hopes of gaining valuable information about the reading and writing process, and to help advance the literacy skills of the K-5 student. | T12: The Rockingham County School Division has requested that our candidates work with their K-5 students who need extra support in reading and writing. This one-on-one setting provides extra support for the K-5 student and provides valuable teaching experiences for our candidates. | AG12: Rockingham County Public Schools' K-5 teachers and EMU Candidates | AR12: Yes
A13: 3. | B13: Literacy Block - Harrisonburg City Public Schools placements | C13: The field experience allows candidates to work with K-6 teachers in the regular classroom setting with the goal to integrate literacy and language arts in the classroom setting. Candidates will provide extra support to the classroom teacher during reading and writing small group and whole group sessions. | T13: Harrisonburg City Schools has requested that our candidates work with their K-6 classroom teachers in order to provide extra support during language arts. This provides help for the teacher and valuable classroom experiences for our candidates. | AG13: Harrisonburg City Public Schools' K-5 teachers and EMU Candidates | AR13: Yes
A14: 4. | B14: Assistive Technology Practical Day - EDS 333 Medical Issues and Assistive Technology for Individuals with Exceptional Learning Needs | C14: Special Education pre-service candidates visit and serve students in the Harrisonburg City school system. Pre-service candidates use assistive technology to assist students with learning, life skills, and communication skills. | T14: Provide students with disabilities one-on-one or small group support on mastering living skills. | AG14: Pre-service special education candidates and students with severe disabilities in the elementary setting in Harrisonburg City Public Schools. | AR14: Yes
A15: 5. | B15: Assistive Technology Collaboration with Rockingham County Schools | C15: The Assistive Technology Club at EMU, including pre-service special education candidates, will collect instructional materials from teachers in Rockingham County schools, augment the material to make it more accessible to all learners, and return the instructional materials back to the teachers for use with PreK-12 students in special education classes. | T15: This allows students with disabilities in the Rockingham County schools access to the general curriculum. | AG15: EMU Assistive Technology Club participants and all Rockingham County Public Schools | AR15: Yes
A16: 6. | B16: LIT 330 Literature for Children and The Early Learning Center | C16: Candidates enrolled in LIT 330 present storytelling to children ages 2-4 at EMU's Early Learning Center. The director of the Early Learning Center collaborates with the LIT 330 professor to teach the university candidates about storytelling with young children. | T16: At the request of the director of the Early Learning Center, the young children are benefited as they are given the opportunity to hear stories embracing characteristics of effective storytelling from 20 or more university candidates. | AG16: LIT 330 Professor; 20 students from LIT 330; director of the Early Learning Center; and 30 children ages 2-4 | AR16: No
A17: 7. | B17: Practicum in seven school divisions and a private school | C17: Curriculum and methods courses require a practicum supervised by EMU teacher education faculty, ranging from 20-60 clock hours, to allow students to link classroom theory with practice in schools. | T17: Practicum students assist cooperating teachers with PreK-12 student achievement. | AG17: EMU practicum students and faculty, and faculty in the following school divisions: Augusta County, Page County, Rockingham County, Shenandoah County, Waynesboro City, Harrisonburg City, Staunton City, and Eastern Mennonite School | AR17: Yes
A18: 8. | B18: Student Teaching in seven school divisions and a private school | C18: The culminating teacher education experience is supervised student teaching. | T18: With a cooperating teacher and a student teacher in the classroom, PreK-12 students increase the contact time with a teacher. Student teachers introduce cooperating teachers to new teaching practices. School divisions get an early start on mentoring beginning teachers as many student teachers are later hired by the hosting school division. | AG18: EMU Student Teachers, clinical faculty identified by the following school divisions: Augusta County, Rockingham County, Page County, Shenandoah County, Waynesboro City, Harrisonburg City, Staunton City, and Eastern Mennonite School | AR18: Yes
A19: 9. | B19: MidValley Consortium | C19: The MidValley Consortium trains and supports a cadre of over 650 clinical faculty who supervise area student teachers. Clinical faculty are nominated by member school divisions and complete two days of intensive training for working with student teachers. | T19: By training public school teachers to effectively supervise area student teachers, the quality of the student teaching experience is enhanced and PreK-12 students benefit from the positive learning experience. | AG19: EMU student teachers, clinical faculty identified by the following school divisions: Augusta County, Rockingham County, Page County, Shenandoah County, Waynesboro City, Harrisonburg City and Staunton City | AR19: Yes
A20: 10. | B20: Waterman Elementary School Family Fun Night | C20: Faculty and teacher candidates in Health and Physical Education and in Special Education General Curriculum K-12 partner with the faculty/staff of Waterman Elementary School (Harrisonburg City Public Schools) to host a Family Fun Night with learning centers and activity centers (hosted on the campus of EMU). | T20: The event provides a venue for family/K-12 school/university partnership, exposure to learning centers regarding the Virginia Standards of Learning curriculum, and communication with parents, including those with cultural/linguistic diversity. | AG20: Waterman Elementary School faculty and administration, Health and Physical Education faculty, and special education faculty | AR20: Yes
A21: 11. | B21: EMU's Hostetter Natural History Museum | C21: The EMU Natural History Museum provides educational presentations and field trips to area elementary and middle school students. | T21: Hands-on workshops focus on grades K-2 or grades 3-5 and are developed to enhance the Virginia Standards of Learning. Workshops include Exploring the World Around You, Amazing Adaptations, Getting to Know Rocks and Fossils, and Discovering Owls. There also is a Discovery Room open every Sunday afternoon. | AG21: Harrisonburg City Public Schools, Rockingham County Public Schools, Augusta County Public Schools and other school divisions send students to the EMU Natural History Museum, where EMU students and professors present the workshops | AR21: No
... A32: 22. | B32: Master of Arts in Education - Page County Schools - Teaching English as a Second Language Internships | C32: EMU has partnered with Page County Public Schools to provide graduate classes in Teaching English as a Second Language to Page County teacher practitioners. | T32: With a cooperating teacher and a graduate intern in the classroom, PreK-12 students increase the contact time with a teacher. Graduate interns introduce cooperating teachers to new teaching practices. | AG32: Page County Public Schools Central Office staff and EMU's Master of Arts in Education program | AR32: Yes
A33: 23.
A34: 24.
A35: 25.
A36: 26.
A37: 27.
A38: 28.
A39: 29.
A40: 30.

Sheet Part 2 - Educ Prgm Matrix 
A1: Virginia Board of Education - Standards for Biennial Approval of Education Programs
A2: Accountability Measurement of Partnerships and Collaborations (8VAC20-542-40.7.a)
A3: Part 2: Education Programs Matrix (excluding Administration and Supervision Programs)
B5: Name of Institution: | C5: ='Part 1 - Education Prgms only'!C5 -> Eastern Mennonite University
B6: Contact Person: | C6: ='Part 1 - Education Prgms only'!C6 -> Cathy Smeltzer Erb
B7: Phone No.: | C7: ='Part 1 - Education Prgms only'!C7 -> (540) 432-4638
B8: Reporting Date: | C8: ='Part 1 - Education Prgms only'!C8 -> 41061
A10: Approved Education Programs (Only education programs approved at your institution are listed.) | C10: Early/Priamry Education PreK-3 | D10: Elementary Education PreK-6 | E10: Reading Specialist | F10: Spanish PreK-12 | G10: Visual Arts PreK-12 | H10: English as a Second Language PreK-12 | I10: Health and Physical Education PreK-12 | J10: Music Education - Instrumental PreK-12 | K10: Music Education - Vocal/Choral PreK-12 | L10: Theatre Arts PreK-12 | M10: Computer Science | N10: English | O10: History and Social Sciences | P10: Mathematics | Q10: Science - Biology | R10: Science - Chemistry | S10: Special Ed. - General Curriculum K-12 | T10: Journalism (add-on endorsement)
A11: Number | B11: Partnership and Collaboration Name | C11: Indicate each content area approved program that took part in each named "Partnership and Collaboration" by placing an 'X' under the appropriate column below.
A12: 1. | B12: ='Part 1 - Education Prgms only'!B11 -> Early Learning Center | C12: X | D12: X
A13: 2. | B13: ='Part 1 - Education Prgms only'!B12 -> Early Bird Tutoring | C13: X | D13: X | S13: X
A14: 3. | B14: ='Part 1 - Education Prgms only'!B13 -> Literacy Block - Harrisonburg City Public Schools placements | C14: X | D14: X | S14: X
A15: 4. | B15: ='Part 1 - Education Prgms only'!B14 -> Assistive Technology Practical Day - EDS 333 Medical Issues and Assistive Technology for Individuals with Exceptional Learning Needs | S15: X
A16: 5. | B16: ='Part 1 - Education Prgms only'!B15 -> Assistive Technology Collaboration with Rockingham County Schools | S16: X
A17: 6. | B17: ='Part 1 - Education Prgms only'!B16 -> LIT 330 Literature for Children and The Early Learning Center | C17: X | D17: X
A18: 7. | B18: ='Part 1 - Education Prgms only'!B17 -> Practicum in seven school divisions and a private school | C18: X | D18: X | E18: X | F18: X | G18: X | H18: X | I18: X | J18: X | K18: X | L18: X | M18: X | N18: X | O18: X | P18: X | Q18: X | R18: X | S18: X | T18: X
A19: 8. | B19: ='Part 1 - Education Prgms only'!B18 -> Student Teaching in seven school divisions and a private school | C19: X | D19: X | F19: X | G19: X | H19: X | I19: X | J19: X | K19: X | L19: X | M19: X | N19: X | O19: X | P19: X | Q19: X | R19: X | S19: X
A20: 9. | B20: ='Part 1 - Education Prgms only'!B19 -> MidValley Consortium | C20: X | D20: X | F20: X | G20: X | H20: X | I20: X | J20: X | K20: X | L20: X | M20: X | N20: X | O20: X | P20: X | Q20: X | R20: X | S20: X
A21: 10. | B21: ='Part 1 - Education Prgms only'!B20 -> Waterman Elementary School Family Fun Night | I21: X | S21: X
A22: 11. | B22: ='Part 1 - Education Prgms only'!B21 -> EMU's Hostetter Natural History Museum | Q22: X | R22: X
A23: 12. | B23: ='Part 1 - Education Prgms only'!B22 -> Lacey Spring Business Partnership | C23: X | D23: X | S23: X
A24: 13. | B24: ='Part 1 - Education Prgms only'!B23 -> EMU's Master of Arts in Education - Harrisonburg City Schools - Teaching English as a Second Language Internships | H24: X
A25: 14. | B25: ='Part 1 - Education Prgms only'!B24 -> Master of Arts in Education - Waynesboro City Public Schools (WCPS), Master of Arts Cohort in Curriculum and Instruction | D25: X | E25: X | H25: X | P25: X
A26: 15. | B26: ='Part 1 - Education Prgms only'!B25 -> Master of Arts in Education - Rockingham County Schools, Reading Specialist Practicum | E26: X
A27: 16. | B27: ='Part 1 - Education Prgms only'!B26 -> Master of Arts in Education - Shenandoah County Public Schools, Technology Courses | C27: X | D27: X | E27: X | F27: X | G27: X | H27: X | I27: X | J27: X | K27: X | L27: X | M27: X | N27: X | O27: X | P27: X | Q27: X | R27: X | S27: X | T27: X
A28: 17. | B28: ='Part 1 - Education Prgms only'!B27 -> Master of Arts in Education - Rockingham County Public Schools, Technology Courses | C28: X | D28: X | E28: X | F28: X | G28: X | H28: X | I28: X | J28: X | K28: X | L28: X | M28: X | N28: X | O28: X | P28: X | Q28: X | R28: X | S28: X | T28: X
A29: 18. | B29: ='Part 1 - Education Prgms only'!B28 -> Thomas Harrison Middle School Writing Partnership | F29: X | G29: X | H29: X | I29: X | J29: X | K29: X | L29: X | M29: X | N29: X | O29: X | P29: X | Q29: X | R29: X
A30: 19. | B30: ='Part 1 - Education Prgms only'!B29 -> Rockingham County Public Schools College for a Day | F30: X | G30: X | H30: X | I30: X | J30: X | K30: X | L30: X | M30: X | N30: X | O30: X | P30: X | Q30: X | R30: X
A31: 20. | B31: ='Part 1 - Education Prgms only'!B30 -> Writing to Learn: Idea Exchange | C31: X | D31: X | E31: X | F31: X | G31: X | H31: X | I31: X | J31: X | K31: X | L31: X | M31: X | N31: X | O31: X | P31: X | Q31: X | R31: X | S31: X | T31: X
A32: 21. | B32: ='Part 1 - Education Prgms only'!B31 -> Augusta County Mathematics Course | C32: X | D32: X | P32: X
A33: 22. | B33: ='Part 1 - Education Prgms only'!B32 -> Master of Arts in Education - Page County Schools - Teaching English as a Second Language Internships | H33: X
A34: 23. | B34: ='Part 1 - Education Prgms only'!B33 -> 0
A35: 24. | B35: ='Part 1 - Education Prgms only'!B34
A36: 25. | B36: ='Part 1 - Education Prgms only'!B35
A37: 26. | B37: ='Part 1 - Education Prgms only'!B36
A38: 27. | B38: ='Part 1 - Education Prgms only'!B37
A39: 28. | B39: ='Part 1 - Education Prgms only'!B38
A40: 29. | B40: ='Part 1 - Education Prgms only'!B39
A41: 30. | B41: ='Part 1 - Education Prgms only'!B40

Sheet Part 3 - Admin & Supv Pgms only
A1: Virginia Board of Education - Standards for Biennial Approval of Education Programs
A2: Accountability Measurement of Partnerships and Collaborations (8VAC20-542-40.7.b)
A3: Part 3: Administration and Supervision Programs
B5: Name of Institution: | C5: ='Part 1 - Education Prgms only'!C5 -> Eastern Mennonite University
B6: Contact Person: | C6: ='Part 1 - Education Prgms only'!C6 -> Cathy Smeltzer Erb
B7: Phone No.: | C7: ='Part 1 - Education Prgms only'!C7 -> (540) 432-4638
B8: Date: | C8: ='Part 1 - Education Prgms only'!C8 -> 41061
A10: Number | B10: Administration and Supervision Programs - Partnership and Collaboration Name | C10: Partnership and Collaboration Description - Please provide a brief description of the partnership and collaboration (about 50 words or less). | T10: Description of School Leadership Needs - Briefly describe (about 50 words or less) how the partnership and collaboration meet the identified school leadership needs of the school community. | AG10: Partners and Collaborators - Please list the names of the entities that took part in the partnership and collaboration. | AR10: Evidence of Agreement - Is there written documentation with the partners and collaborators? Yes or No?
A11: 1. | B11: Not applicable | C11: Not applicable | T11: Not applicable | AG11: Not applicable | AR11: Not applicable
