Workbook

Sheet Standard 1
A1: Standards for Biennial Approval of Education Programs (8VAC20-542-40.1)
A2: Certification of Standard 1 - Assessment Passing Rates
C4: Biennial Reporting Period: | D4: September 1, 2009, through August 31, 2011
C5: Name of Institution: | D5: Eastern Mennonite University
A7: Std. # | B7: Description of Standard
A8: 1. | B8: Candidate Progress and Performance on Prescribed Board of Education Licensure Assessments. Candidate passing rates, reported by percentages, shall not fall below 80% biennially for individuals completing and exiting the program. Candidates completing a program shall have successfully completed all coursework, required assessments, including those prescribed by the Board of Education, and supervised student teaching or internship. Candidates exiting a program shall have successfully completed all coursework, regardless of whether the individuals attempted, passed, or failed required assessments, including those prescribed by the Board of Education, and/or who may not have completed supervised student teaching or required internship.
A9: Ref. | B9: Description of Assessments
A10: A | B10: Academic Skills Assessment: The prescribed test is the Virginia Communication and Literacy Assessment (VCLA). This assessment is applicable to individuals seeking an initial teaching license. The VCLA is not required for add-on endorsements or for Administration and Supervision PreK-12, School Counselor PreK-12, School Psychology, School Social Worker, or Speech Language Pathologist PreK-12 endorsements.
A11: B | B11: Content Assessment: The prescribed test is the Praxis II: Specialty Area Test. This assessment is applicable to the following subject area endorsements only: Business and Information Technology; Early/Primary Education PreK-3; Elementary Education PreK-6; English; French; German; Family and Consumer Sciences; Health and Physical Education; History and Social Sciences; Marketing Education; Mathematics; Middle Education 6-8; Music Education-Instrumental; Music Education-Vocal/Choral; Science-Biology; Science-Chemistry; Science-Earth Science; Science-Physics; Spanish; Technology Education; and Visual Arts.
A12: C | B12: Virginia Reading Assessment: The prescribed test for individuals seeking an initial teaching license with endorsements in Early/Primary Education PreK-3, Elementary Education PreK-6, Special Education-General Curriculum, Special Education-Hearing Impairments, or Special Education-Visual Impairments is either the Virginia Reading Assessment for Elementary and Special Education Teachers (VRA)or the Reading for Virginia Educators: Elementary and Special Education (RVE). The prescribed test for the Reading Specialist endorsement is the Virginia Reading Assessment for Reading Specialist or the Reading for Virginia Educators: Reading Specialist.
A13: D | B13: School Leadership Assessment: The prescribed test, applicable to the Administration and Supervision PreK-12 endorsement only, is the School Leadership Licensure Assessment (SLLA).
B14: Key
A15: P = Passed; NP = Not Passed; NT = Not Taken; NR = Not Required (because the candidate is seeking an added endorsement to an existing Virginia teaching license).
A16: Not Applicable (N/A) = The licensure assessment is not prescribed for the respective approved education program.
B17: Instructions
A18: Please note that if an approved education program had less than ten completers and exiters reported in the prior biennial reporting period, then those completers and exiters are displayed in the table below under the "Rollover Only from Prior Biennial Reporting Period" column and will automatically be summed together with the current biennial reporting period completers and exiters for that education program.
A20: For each approved education program listed below, complete the following information as it pertains to the current biennial reporting period, i.e., September 1, 2009, through August 31, 2011*:
A21: [*If you had program completers and exiters from July 1 through August 31, 2009, please include them in this report for the current biennial reporting period.]
A22: Step 1 | B22: Enter the number of program completers for the current biennial reporting period.
A23: Step 2 | B23: Enter the number of program exiters for the current biennial reporting period.
B24: Note, the spreadsheet will automatically calculate the "Total Completers and Exiters" for each approved education program based on the sum of the "Rollover" completers and exiters and of your current period entries in Step 1 and Step 2.
A25: Step 3 | B25: If there are ten or more "Total Completers and Exiters", then proceed to enter in each of the designated columns the number (i.e., zero or higher) of candidates who passed (P), who did not pass (NP), who did not take (NT), and who were not required to take (NR) the applicable licensure assessments for that approved program.
A26: Step 4 | B26: If there are less than ten "Total Completers and Exiters" for an approved education program, then do NOT enter candidate results for the respective licensure assessments for that approved education program. These candidates will be rolled over, i.e., added into the pool used for the next biennial report.
B27: Note, the "Pass Rate (%)" will automatically be calculated by the spreadsheet for each respective licensure assessment for each approved education program.
A28: Approved Education Program | D28: Rollover Only from Prior Biennial Reporting Period | F28: Current Biennial Reporting Period | H28: Total Completers and Exiters | I28: VCLA (A) | N28: PRAXIS II (B) | S28: VRA or VRE (C) | X28: SLLA (D)
D29: Number of Program Completers | E29: Number of Program Exiters | F29: Number of Program Completers | G29: Number of Program Exiters | I29: Pass Rate (%) | J29: P | K29: NP | L29: NT | M29: NR | N29: Pass Rate (%) | O29: P | P29: NP | Q29: NT | R29: NR | S29: Pass Rate (%) | T29: P | U29: NP | V29: NT | W29: NR | X29: Pass Rate (%) | Y29: P | Z29: NP | AA29: NT
A30: Early/Primary Education PreK-3 | D30: 6 | E30: 0 | F30: 4 | H30: =+D30+E30+F30+G30 -> 10 | I30: =IF(H30>=10,J30/(H30-M30)," ") -> 1 | J30: 10 | N30: =IF(H30>=10,O30/(H30-R30)," ") -> 1 | O30: 10 | S30: =IF(H30>=10,T30/(H30-W30)," ") -> 1 | T30: 10 | X30: Not applicable
A31: Elementary Education PreK-6 | F31: 22 | H31: =+D31+E31+F31+G31 -> 22 | I31: =IF(H31>=10,J31/(H31-M31)," ") -> 1 | J31: 22 | N31: =IF(H31>=10,O31/(H31-R31)," ") -> 1 | O31: 22 | S31: =IF(H31>=10,T31/(H31-W31)," ") -> 1 | T31: 22 | X31: Not applicable
A32: Reading Specialist | F32: 10 | H32: =+D32+E32+F32+G32 -> 10 | I32: =IF(H32>=10,J32/(H32-M32)," ") -> #DIV/0! | M32: 10 | N32: Not applicable | S32: =IF(H32>=10,T32/H32," ") -> 1 | T32: 10 | W32: N/A | X32: Not applicable
A33: Spanish PreK-12 | D33: 2 | E33: 0 | F33: 1 | H33: =+D33+E33+F33+G33 -> 3 | I33: =IF(H33>=10,J33/(H33-M33)," ") | N33: =IF(H33>=10,O33/(H33-R33)," ") | S33: Not applicable | X33: Not applicable
A34: Visual Arts PreK-12 | D34: 3 | E34: 0 | F34: 1 | H34: =+D34+E34+F34+G34 -> 4 | I34: =IF(H34>=10,J34/(H34-M34)," ") | N34: =IF(H34>=10,O34/(H34-R34)," ") | S34: Not applicable | X34: Not applicable
A35: English as a Second Language PreK-12 | D35: 4 | E35: 0 | F35: 10 | H35: =+D35+E35+F35+G35 -> 14 | I35: =IF(H35>=10,J35/(H35-M35)," ") -> 1 | J35: 11 | M35: 3 | N35: Not applicable | S35: Not applicable | X35: Not applicable
A36: Health and Physical Education PreK-12 | D36: 6 | E36: 0 | F36: 3 | H36: =+D36+E36+F36+G36 -> 9 | I36: =IF(H36>=10,J36/(H36-M36)," ") | N36: =IF(H36>=10,O36/(H36-R36)," ") | S36: Not applicable | X36: Not applicable
A37: Music Education - Instrumental PreK-12 | D37: 1 | E37: 0 | F37: 0 | H37: =+D37+E37+F37+G37 -> 1 | I37: =IF(H37>=10,J37/(H37-M37)," ") | N37: =IF(H37>=10,O37/(H37-R37)," ") | S37: Not applicable | X37: Not applicable
A38: Music Education - Vocal/Choral PreK-12 | F38: 0 | H38: =+D38+E38+F38+G38 -> 0 | I38: =IF(H38>=10,J38/(H38-M38)," ") | N38: =IF(H38>=10,O38/(H38-R38)," ") | S38: Not applicable | X38: Not applicable
A39: Theatre Arts PreK-12 | F39: 0 | H39: =+D39+E39+F39+G39 -> 0 | I39: =IF(H39>=10,J39/(H39-M39)," ") | N39: Not applicable | S39: Not applicable | X39: Not applicable
A40: Computer Science | F40: 0 | H40: =+D40+E40+F40+G40 -> 0 | I40: =IF(H40>=10,J40/(H40-M40)," ") | N40: Not applicable | S40: Not applicable | X40: Not applicable
A41: English | D41: 2 | E41: 0 | F41: 5 | H41: =+D41+E41+F41+G41 -> 7 | I41: =IF(H41>=10,J41/(H41-M41)," ") | N41: =IF(H41>=10,O41/(H41-R41)," ") | S41: Not applicable | X41: Not applicable
A42: History and Social Sciences | D42: 3 | E42: 0 | F42: 7 | H42: =+D42+E42+F42+G42 -> 10 | I42: =IF(H42>=10,J42/(H42-M42)," ") -> 1 | J42: 10 | N42: =IF(H42>=10,O42/(H42-R42)," ") -> 1 | O42: 10 | S42: Not applicable | X42: Not applicable
A43: Mathematics | D43: 3 | E43: 0 | F43: 1 | H43: =+D43+E43+F43+G43 -> 4 | I43: =IF(H43>=10,J43/(H43-M43)," ") | N43: =IF(H43>=10,O43/(H43-R43)," ") | S43: Not applicable | X43: Not applicable
...

Sheet Standards 2 thru 6
A1: Standards for Biennial Approval of Education Programs (8VAC20-542-40.2-6)
A2: Certification of Standards 2 through 6
D4: Biennial Reporting Period: | E4: September 1, 2009, through August 31, 2011
D5: Name of Institution: | E5: Eastern Mennonite University
A7: Std. # | B7: Description of Standard
A8: 2. | B8: Candidate progress and performance on an assessment of basic skills as prescribed by the Board of Education for individuals seeking entry into an approved education preparation program. Indicators of the achievement of this standard shall include:
B9: a. | C9: Results on Board of Education prescribed entry-level assessments; and
B10: b. | C10: Documentation that candidates enrolled in the program who fail to achieve a minimum score established by the Board of Education have the opportunity to address any deficiencies.
A11: 3. | B11: Structured and integrated field experiences to include student teaching requirements. Indicators of the achievement of this standard shall include the following:
B12: a. | C12: Evidence that candidates receive quality structured and integrated field experiences that prepare them to work in diverse educational environments; and
B13: b. | C13: Evidence that at least 300 clock hours of field experiences for initial programs (including early exposure to PreK-12 classroom experiences) to include a minimum of 150 clock hours of directed student teaching requirements are provided. Programs in administration and supervision shall provide field experiences with a minimum of 320 clock hours as part of a deliberately structured internship over the duration of a preparation program. The majority of the school level supervised experience shall take place during the school day in concentrated blocks of time when PreK-12 students are present.
A14: 4. | B14: Evidence of opportunities for candidates to participate in diverse school settings that provide experiences with populations that include racial, economic, linguistic, and ethnic diversity throughout the program experiences. The indicator of the achievement of this standard shall include evidence that the professional education programs provide opportunities for candidates to have program experiences in diverse school settings that provide experiences with populations that include racial, economic, linguistic, and ethnic diversity within each biennial period.
A15: 5. | B15: Evidence of contributions to PreK-12 student achievement by candidates completing the program. Indicators of the achievement of this standard shall include the following
B16: a. | C16: Evidence to show that candidates know about, create, and use appropriate and effective measurements in teaching that shall provide dependable information about student achievement;
B17: b. | C17: Evidence to document faculty have made provisions for evaluating effects that candidates have on PreK-12 student learning in the context of teaching as they design unit assessment systems and assessments for each program; and
B18: c. | C18: Evidence that the education program assesses candidates' mastery of exit criteria and performance proficiencies, including the ability to affect student learning, through the use of multiple sources of data such as culminating experience, portfolios, interviews, videotaped and observed performance in schools and standardized tests, and course grades.
A19: 6. | B19: Evidence of employer job satisfaction with candidates completing the program. The indicator of the achievement of this standard shall include documentation that the education program has two years of evidence regarding candidate performance based on employer surveys.
A20: NOTE | B20: Documentation of the evidence of Standards 2 through 6 above must be maintained at the IHE and made available for audit upon request by VDOE.
A21: Instructions
A22: For the current biennial reporting period, i.e., September 1, 2009, through August 31, 2011, please complete the following information:
A23: 1) For each approved education program listed below that received approval prior to September 1, 2009, and for which you had at least one program completer or program exiter during the current biennial reporting period, indicate if you met the standards (as defined above) by selecting either "MET" or "NOT MET" from the dropdown box for each standard.
A24: 2) For each approved education program listed below that received approval prior to September 1, 2009, for which you had a total of zero program completers and program exiters for the current biennial reporting period, select "INACTIVE" from the dropdown box for each standard.
A25: 3) For each approved education program listed below that received approval on or after September 1, 2009, select "NEW" from the dropdown box for each standard.
A26: Approved Education Program | E26: Standard #2 | F26: Standard #3 | G26: Standard #4 | H26: Standard #5 | I26: Standard #6
A27: ='Standard 1'!A30 -> Early/Primary Education PreK-3 | E27: MET | F27: MET | G27: MET | H27: MET | I27: MET | K27: MET
A28: ='Standard 1'!A31 -> Elementary Education PreK-6 | E28: MET | F28: MET | G28: MET | H28: MET | I28: MET | K28: NOT MET
A29: ='Standard 1'!A32 -> Reading Specialist | E29: MET | F29: MET | G29: MET | H29: MET | I29: MET | K29: NEW
A30: ='Standard 1'!A33 -> Spanish PreK-12 | E30: MET | F30: MET | G30: MET | H30: MET | I30: MET | K30: INACTIVE
A31: ='Standard 1'!A34 -> Visual Arts PreK-12 | E31: MET | F31: MET | G31: MET | H31: MET | I31: MET
A32: ='Standard 1'!A35 -> English as a Second Language PreK-12 | E32: MET | F32: MET | G32: MET | H32: MET | I32: MET
A33: ='Standard 1'!A36 -> Health and Physical Education PreK-12 | E33: MET | F33: MET | G33: MET | H33: MET | I33: MET
A34: ='Standard 1'!A37 -> Music Education - Instrumental PreK-12 | E34: INACTIVE | F34: INACTIVE | G34: INACTIVE | H34: INACTIVE | I34: INACTIVE
A35: ='Standard 1'!A38 -> Music Education - Vocal/Choral PreK-12 | E35: INACTIVE | F35: INACTIVE | G35: INACTIVE | H35: INACTIVE | I35: INACTIVE
A36: ='Standard 1'!A39 -> Theatre Arts PreK-12 | E36: INACTIVE | F36: INACTIVE | G36: INACTIVE | H36: INACTIVE | I36: INACTIVE
A37: ='Standard 1'!A40 -> Computer Science | E37: INACTIVE | F37: INACTIVE | G37: INACTIVE | H37: INACTIVE | I37: INACTIVE
A38: ='Standard 1'!A41 -> English | E38: MET | F38: MET | G38: MET | H38: MET | I38: MET
A39: ='Standard 1'!A42 -> History and Social Sciences | E39: MET | F39: MET | G39: MET | H39: MET | I39: MET
A40: ='Standard 1'!A43 -> Mathematics | E40: MET | F40: MET | G40: MET | H40: MET | I40: MET
A41: ='Standard 1'!A44 -> Science - Biology | E41: INACTIVE | F41: INACTIVE | G41: INACTIVE | H41: INACTIVE | I41: INACTIVE
A42: ='Standard 1'!A45 -> Science - Chemistry | E42: INACTIVE | F42: INACTIVE | G42: INACTIVE | H42: INACTIVE | I42: INACTIVE
...

Sheet Affidavit
A1: Standards for Biennial Approval of Education Programs (8VAC20-542-40.1-6)
A2: Affidavit for Standards 1 through 6
C5: Biennial Reporting Period: | D5: September 1, 2009, through August 31, 2011
C6: Name of Institution: | D6: Eastern Mennonite University
A10: By my signature, I verify the following:
A11: (1) that the information submitted to document Standard 1 of Section 8VAC20-542-40 of the Regulations Governing the Review and Approval of Education Programs in Virginia is accurate and complete; and
A12: (2) that Standards 2 through 6 of Section 8VAC20-542-40 of the Regulations Governing the Review and Approval of Education Programs in Virginia have been met and documentation of the evidence is on file and available for review at this institution.
A17: Name of Dean or Director
A22: Signature of Dean or Director | G22: Date
A25: Attachments: | C25: Copy of the "Certification of Standard 1 - Assessment Passing Rates" report
C26: Copy of the "Certification of Standards 2 through 6" report
A29: Fax the signed affidavit page and attachments to:
B30: Brian A. Mason, Virginia Department of Education, Division of Teacher Education and Licensure
B31: Fax No.: (804) 530-4510

Sheet Table of Prescribed Tests
A1: Table of Prescribed Tests:
A2: The table below displays the tests prescribed by the Board of Education as part of licensure assessments for approved education programs.
A3: For each approved education program, if "Yes" appears in a test type column, then that test is prescribed for that program.
A4: Note 1: The VCLA assessment consists of the following two parts: Reading (Test Code 091) and Writing (Test Code 092).
A5: The sum (composite) of those two scores is evaluated as part of the licensure assessment. A composite score of at least 470 is considered "Passing".
A6: Note 2: The VCLA is required for an initial license. The VCLA is not required for an individual seeking a Pupil Personnel Services license with endorsements such as School Counselor, School Psychology, School Social Worker, or Speech-Language Pathologist. The VCLA is not required for add-on endorsements.
A7: Note 3: Effective July 1, 2011, the Reading for Virginia Educators: Elementary and Special Education (RVE) assessment will replace the Virginia Reading Assessment (VRA); and the Reading for Virginia Educators: Reading Specialist (RVE for Reading Specialists) assessment will replace the Virginia Reading Assessment for Reading Specialists (VRA for Reading Specialists). The Virginia Board of Education is expected to set passing scores for RVE assessments in May 2011, which will be applied to those RVE tests that were administered beginning in January 2011.
A9: Approved Education Program | B9: VCLA | C9: Test Code | D9: Passing Score | E9: Praxis II | F9: Test Code | G9: Passing Score | H9: VRA or VRE (See Note 3) | I9: Test Code | J9: Passing Score | K9: SLLA | L9: Test Code | M9: Passing Score
A10: Early/Primary Education PreK-3 | B10: Yes | C10: See Note 1 | D10: See Note 1 | E10: Yes | F10: 0014 or 5014 | G10: 143 | H10: Yes - See Note 3 | I10: One of the tests below | J10: See below
A11: - Accepted but no longer administered | I11: VRA-001 | J11: 235
A12: - Currently administered | I12: VRE-001 | J12: TBD
A13: Elementary Education PreK-6 | B13: Yes | C13: See Note 1 | D13: See Note 1 | E13: Yes | F13: 0014 or 5014 | G13: 143 | H13: Yes - See Note 3 | I13: One of the tests below | J13: See below
A14: - Accepted but no longer administered | I14: VRA-001 | J14: 235
A15: - Currently administered | I15: VRE-001 | J15: TBD
A16: Middle Education 6-8 | B16: Yes | C16: See Note 1 | D16: See Note 1 | E16: Yes | F16: One of the tests below | G16: See below
A17: - for concentration in Middle Ed. English | B17: Yes | F17: 0049 | G17: 164
A18: - for concentration in Middle Ed. Math | B18: Yes | F18: 0069 | G18: 163
A19: - for concentration in Middle Ed. Science | B19: Yes | F19: 0439 | G19: 162
A20: - for concentration in Middle Ed. Social Sciences | B20: Yes | F20: 0089 | G20: 160
A21: Adult Education | B21: Yes | C21: See Note 1 | D21: See Note 1
A22: Administration and Supervision PreK-12 | B22: No | C22: See Note 2 | D22: See Note 2 | K22: Yes | L22: One of the tests below | M22: See below
A23: - Accepted but no longer administered | L23: 1010 | M23: 165
A24: - Currently administered | L24: 1011 | M24: 163
A25: Math Specialist for Elementary/Middle Ed. | B25: Yes | C25: See Note 2 | D25: See Note 2
A26: Reading Specialist | B26: Yes | C26: See Note 2 | D26: See Note 2 | H26: Yes - See Note 3 | I26: One of the tests below | J26: See below
A27: - Accepted but no longer administered | I27: VRA-002 | J27: 245
A28: - Currently administered | I28: VRE-002 | J28: TBD
A29: School Counselor PreK-12 | B29: No | C29: See Note 2 | D29: See Note 2
A30: School Psychology | B30: No | C30: See Note 2 | D30: See Note 2
A31: School Social Worker | B31: No | C31: See Note 2 | D31: See Note 2
A32: Arabic | B32: Yes | C32: See Note 1 | D32: See Note 1
A33: Chinese | B33: Yes | C33: See Note 1 | D33: See Note 1
A34: French | B34: Yes | C34: See Note 1 | D34: See Note 1 | E34: Yes | F34: One of the tests below | G34: See below
A35: - Taken before 9/1/2010 | F35: 0173 | G35: 169
A36: - Taken after 9/1/2010 | F36: 5174 | G36: 163
A37: German | B37: Yes | C37: See Note 1 | D37: See Note 1 | E37: Yes | F37: One of the tests below | G37: See below
A38: - Taken before 9/1/2010 | F38: 0181 | G38: 162
A39: - Taken after 9/1/2010 | F39: 5183 | G39: 163
A40: Spanish | B40: Yes | C40: See Note 1 | D40: See Note 1 | E40: Yes | F40: One of the tests below | G40: See below
A41: - Taken before 9/1/2010 | F41: 0191 | G41: 161
...
